BEGIN:VCALENDAR
VERSION:2.0
PRODID:-//EKIP - ECPv6.15.20//NONSGML v1.0//EN
CALSCALE:GREGORIAN
METHOD:PUBLISH
X-ORIGINAL-URL:https://ekip.com
X-WR-CALDESC:Évènements pour EKIP
REFRESH-INTERVAL;VALUE=DURATION:PT1H
X-Robots-Tag:noindex
X-PUBLISHED-TTL:PT1H
BEGIN:VTIMEZONE
TZID:Europe/Paris
BEGIN:DAYLIGHT
TZOFFSETFROM:+0100
TZOFFSETTO:+0200
TZNAME:CEST
DTSTART:20150329T010000
END:DAYLIGHT
BEGIN:STANDARD
TZOFFSETFROM:+0200
TZOFFSETTO:+0100
TZNAME:CET
DTSTART:20151025T010000
END:STANDARD
BEGIN:DAYLIGHT
TZOFFSETFROM:+0100
TZOFFSETTO:+0200
TZNAME:CEST
DTSTART:20160327T010000
END:DAYLIGHT
BEGIN:STANDARD
TZOFFSETFROM:+0200
TZOFFSETTO:+0100
TZNAME:CET
DTSTART:20161030T010000
END:STANDARD
BEGIN:DAYLIGHT
TZOFFSETFROM:+0100
TZOFFSETTO:+0200
TZNAME:CEST
DTSTART:20170326T010000
END:DAYLIGHT
BEGIN:STANDARD
TZOFFSETFROM:+0200
TZOFFSETTO:+0100
TZNAME:CET
DTSTART:20171029T010000
END:STANDARD
END:VTIMEZONE
BEGIN:VEVENT
DTSTART;VALUE=DATE:20160530
DTEND;VALUE=DATE:20160603
DTSTAMP:20260422T034547
CREATED:20160319T101856Z
LAST-MODIFIED:20160421T064920Z
UID:787-1464566400-1464911999@ekip.com
SUMMARY:AGROFOODTECH -Téhéran-Iran
DESCRIPTION:
URL:https://ekip.com/event/30-mai-au-02-juin-2016-agrofoodtech-iran/
LOCATION:Lieu sans nom\, Téhéran\, Iran (République islamique d')
END:VEVENT
BEGIN:VEVENT
DTSTART;VALUE=DATE:20160531
DTEND;VALUE=DATE:20160603
DTSTAMP:20260422T034547
CREATED:20160418T145927Z
LAST-MODIFIED:20160418T145932Z
UID:1072-1464652800-1464911999@ekip.com
SUMMARY:ASEAN SIAL - Manille - Philippines
DESCRIPTION:
URL:https://ekip.com/event/asean-sial-manille-philippines/
LOCATION:Lieu sans nom\, Manille\, Philippines
END:VEVENT
BEGIN:VEVENT
DTSTART;VALUE=DATE:20160602
DTEND;VALUE=DATE:20160603
DTSTAMP:20260422T034547
CREATED:20160421T063632Z
LAST-MODIFIED:20160421T063632Z
UID:1200-1464825600-1464911999@ekip.com
SUMMARY:Congrès du Snacking - Paris
DESCRIPTION:
URL:https://ekip.com/event/congres-du-snacking-paris/
LOCATION:Pavillon royal\, Paris\, France
END:VEVENT
END:VCALENDAR