BEGIN:VCALENDAR
VERSION:2.0
PRODID:-//EKIP - ECPv6.15.20//NONSGML v1.0//EN
CALSCALE:GREGORIAN
METHOD:PUBLISH
X-ORIGINAL-URL:https://ekip.com
X-WR-CALDESC:Évènements pour EKIP
REFRESH-INTERVAL;VALUE=DURATION:PT1H
X-Robots-Tag:noindex
X-PUBLISHED-TTL:PT1H
BEGIN:VTIMEZONE
TZID:Europe/Paris
BEGIN:DAYLIGHT
TZOFFSETFROM:+0100
TZOFFSETTO:+0200
TZNAME:CEST
DTSTART:20150329T010000
END:DAYLIGHT
BEGIN:STANDARD
TZOFFSETFROM:+0200
TZOFFSETTO:+0100
TZNAME:CET
DTSTART:20151025T010000
END:STANDARD
BEGIN:DAYLIGHT
TZOFFSETFROM:+0100
TZOFFSETTO:+0200
TZNAME:CEST
DTSTART:20160327T010000
END:DAYLIGHT
BEGIN:STANDARD
TZOFFSETFROM:+0200
TZOFFSETTO:+0100
TZNAME:CET
DTSTART:20161030T010000
END:STANDARD
BEGIN:DAYLIGHT
TZOFFSETFROM:+0100
TZOFFSETTO:+0200
TZNAME:CEST
DTSTART:20170326T010000
END:DAYLIGHT
BEGIN:STANDARD
TZOFFSETFROM:+0200
TZOFFSETTO:+0100
TZNAME:CET
DTSTART:20171029T010000
END:STANDARD
END:VTIMEZONE
BEGIN:VEVENT
DTSTART;VALUE=DATE:20161106
DTEND;VALUE=DATE:20161111
DTSTAMP:20260421T214718
CREATED:20160418T153348Z
LAST-MODIFIED:20160418T153504Z
UID:1086-1478390400-1478822399@ekip.com
SUMMARY:EQUIP HOTEL - Paris
DESCRIPTION:
URL:https://ekip.com/event/equip-hotel-paris/
LOCATION:Paris Porte de Versailles\, Paris\, France
END:VEVENT
BEGIN:VEVENT
DTSTART;VALUE=DATE:20161107
DTEND;VALUE=DATE:20161110
DTSTAMP:20260421T214718
CREATED:20160920T081718Z
LAST-MODIFIED:20160920T081718Z
UID:1457-1478476800-1478735999@ekip.com
SUMMARY:GULFOOD Manufacturing Dubai
DESCRIPTION:
URL:https://ekip.com/event/gulfood-manufacturing-dubai/
LOCATION:Dubai World Trade Center\, Dubai\, Émirats arabes unis
END:VEVENT
BEGIN:VEVENT
DTSTART;VALUE=DATE:20161107
DTEND;VALUE=DATE:20161110
DTSTAMP:20260421T214718
CREATED:20160920T082721Z
LAST-MODIFIED:20160920T082721Z
UID:1458-1478476800-1478735999@ekip.com
SUMMARY:Sweets and Snack - Me Yummex Me Dubai
DESCRIPTION:
URL:https://ekip.com/event/sweets-and-snack-me-yummex-me-dubai/
LOCATION:Dubai World Trade Center\, Dubai\, Émirats arabes unis
END:VEVENT
BEGIN:VEVENT
DTSTART;VALUE=DATE:20161109
DTEND;VALUE=DATE:20161110
DTSTAMP:20260421T214718
CREATED:20160701T135008Z
LAST-MODIFIED:20160701T135016Z
UID:1379-1478649600-1478735999@ekip.com
SUMMARY:Univers Boulangerie - Dijon
DESCRIPTION:
URL:https://ekip.com/event/univers-boulangerie-dijon/
LOCATION:Lieu sans nom\, Dijon\, France
END:VEVENT
BEGIN:VEVENT
DTSTART;VALUE=DATE:20161109
DTEND;VALUE=DATE:20161111
DTSTAMP:20260421T214718
CREATED:20160928T112405Z
LAST-MODIFIED:20160928T112411Z
UID:1488-1478649600-1478822399@ekip.com
SUMMARY:67ème JTIC- Paris
DESCRIPTION:67 ème édition des Journées techniques des industries céréalières. Exposition et conférences autour des thèmes : RSE\, Blés de l’Année\, Gluten  et céréales alternatives
URL:https://ekip.com/event/67eme-jtic-paris/
LOCATION:Paris Event Center La Villette\, Paris\, France
END:VEVENT
END:VCALENDAR