BEGIN:VCALENDAR
VERSION:2.0
PRODID:-//EKIP - ECPv6.15.20//NONSGML v1.0//EN
CALSCALE:GREGORIAN
METHOD:PUBLISH
X-ORIGINAL-URL:https://ekip.com
X-WR-CALDESC:Évènements pour EKIP
REFRESH-INTERVAL;VALUE=DURATION:PT1H
X-Robots-Tag:noindex
X-PUBLISHED-TTL:PT1H
BEGIN:VTIMEZONE
TZID:Europe/Paris
BEGIN:DAYLIGHT
TZOFFSETFROM:+0100
TZOFFSETTO:+0200
TZNAME:CEST
DTSTART:20150329T010000
END:DAYLIGHT
BEGIN:STANDARD
TZOFFSETFROM:+0200
TZOFFSETTO:+0100
TZNAME:CET
DTSTART:20151025T010000
END:STANDARD
BEGIN:DAYLIGHT
TZOFFSETFROM:+0100
TZOFFSETTO:+0200
TZNAME:CEST
DTSTART:20160327T010000
END:DAYLIGHT
BEGIN:STANDARD
TZOFFSETFROM:+0200
TZOFFSETTO:+0100
TZNAME:CET
DTSTART:20161030T010000
END:STANDARD
BEGIN:DAYLIGHT
TZOFFSETFROM:+0100
TZOFFSETTO:+0200
TZNAME:CEST
DTSTART:20170326T010000
END:DAYLIGHT
BEGIN:STANDARD
TZOFFSETFROM:+0200
TZOFFSETTO:+0100
TZNAME:CET
DTSTART:20171029T010000
END:STANDARD
END:VTIMEZONE
BEGIN:VEVENT
DTSTART;VALUE=DATE:20161118
DTEND;VALUE=DATE:20161121
DTSTAMP:20260421T201413
CREATED:20160920T081457Z
LAST-MODIFIED:20160920T081457Z
UID:1447-1479427200-1479686399@ekip.com
SUMMARY:MIF Expo - Paris
DESCRIPTION:
URL:https://ekip.com/event/mif-expo-paris/
LOCATION:Paris Porte de Versailles\, Paris\, France
END:VEVENT
BEGIN:VEVENT
DTSTART;VALUE=DATE:20161118
DTEND;VALUE=DATE:20161121
DTSTAMP:20260421T201413
CREATED:20161024T085341Z
LAST-MODIFIED:20161024T085341Z
UID:1523-1479427200-1479686399@ekip.com
SUMMARY:MIF Expo - Paris
DESCRIPTION:Acteur incontournable dans l’évolution du made in France\, MIF Expo propose une vitrine qui permet à l’industrie\, à l’innovation et à la créativité française de rencontrer les consommateurs. MIF Expo reflète et tente d’amplifier une dynamique socio-économique. Celle d’entreprises qui ont fait le choix de réaliser sur notre territoire les étapes essentielles de la fabrication de leurs produits.
URL:https://ekip.com/event/mif-expo-paris-2/
LOCATION:Paris Porte de Versailles\, Paris\, France
END:VEVENT
END:VCALENDAR