BEGIN:VCALENDAR
VERSION:2.0
PRODID:-//EKIP - ECPv6.15.20//NONSGML v1.0//EN
CALSCALE:GREGORIAN
METHOD:PUBLISH
X-ORIGINAL-URL:https://ekip.com
X-WR-CALDESC:Évènements pour EKIP
REFRESH-INTERVAL;VALUE=DURATION:PT1H
X-Robots-Tag:noindex
X-PUBLISHED-TTL:PT1H
BEGIN:VTIMEZONE
TZID:Europe/Paris
BEGIN:DAYLIGHT
TZOFFSETFROM:+0100
TZOFFSETTO:+0200
TZNAME:CEST
DTSTART:20150329T010000
END:DAYLIGHT
BEGIN:STANDARD
TZOFFSETFROM:+0200
TZOFFSETTO:+0100
TZNAME:CET
DTSTART:20151025T010000
END:STANDARD
BEGIN:DAYLIGHT
TZOFFSETFROM:+0100
TZOFFSETTO:+0200
TZNAME:CEST
DTSTART:20160327T010000
END:DAYLIGHT
BEGIN:STANDARD
TZOFFSETFROM:+0200
TZOFFSETTO:+0100
TZNAME:CET
DTSTART:20161030T010000
END:STANDARD
BEGIN:DAYLIGHT
TZOFFSETFROM:+0100
TZOFFSETTO:+0200
TZNAME:CEST
DTSTART:20170326T010000
END:DAYLIGHT
BEGIN:STANDARD
TZOFFSETFROM:+0200
TZOFFSETTO:+0100
TZNAME:CET
DTSTART:20171029T010000
END:STANDARD
END:VTIMEZONE
BEGIN:VEVENT
DTSTART;VALUE=DATE:20161206
DTEND;VALUE=DATE:20161217
DTSTAMP:20260421T184721
CREATED:20160620T134524Z
LAST-MODIFIED:20160620T134524Z
UID:1329-1480982400-1481932799@ekip.com
SUMMARY:SIALY - Yaoundé-Cameroun
DESCRIPTION:Salon International de l’Agriculture et de l’Agroalimentaire
URL:https://ekip.com/event/sialy-yaounde-cameroun/
LOCATION:Hotel de ville\, Yaoudé\, Cameroun
ORGANIZER;CN="Unnamed Organisateur":MAILTO:info@sialy.net
END:VEVENT
END:VCALENDAR