BEGIN:VCALENDAR
VERSION:2.0
PRODID:-//EKIP - ECPv6.15.20//NONSGML v1.0//EN
CALSCALE:GREGORIAN
METHOD:PUBLISH
X-ORIGINAL-URL:https://ekip.com
X-WR-CALDESC:Évènements pour EKIP
REFRESH-INTERVAL;VALUE=DURATION:PT1H
X-Robots-Tag:noindex
X-PUBLISHED-TTL:PT1H
BEGIN:VTIMEZONE
TZID:Europe/Paris
BEGIN:DAYLIGHT
TZOFFSETFROM:+0100
TZOFFSETTO:+0200
TZNAME:CEST
DTSTART:20160327T010000
END:DAYLIGHT
BEGIN:STANDARD
TZOFFSETFROM:+0200
TZOFFSETTO:+0100
TZNAME:CET
DTSTART:20161030T010000
END:STANDARD
BEGIN:DAYLIGHT
TZOFFSETFROM:+0100
TZOFFSETTO:+0200
TZNAME:CEST
DTSTART:20170326T010000
END:DAYLIGHT
BEGIN:STANDARD
TZOFFSETFROM:+0200
TZOFFSETTO:+0100
TZNAME:CET
DTSTART:20171029T010000
END:STANDARD
BEGIN:DAYLIGHT
TZOFFSETFROM:+0100
TZOFFSETTO:+0200
TZNAME:CEST
DTSTART:20180325T010000
END:DAYLIGHT
BEGIN:STANDARD
TZOFFSETFROM:+0200
TZOFFSETTO:+0100
TZNAME:CET
DTSTART:20181028T010000
END:STANDARD
END:VTIMEZONE
BEGIN:VEVENT
DTSTART;VALUE=DATE:20170319
DTEND;VALUE=DATE:20170323
DTSTAMP:20260421T135208
CREATED:20161102T153725Z
LAST-MODIFIED:20161102T153732Z
UID:1545-1489881600-1490227199@ekip.com
SUMMARY:IFE - Londres
DESCRIPTION:
URL:https://ekip.com/event/ife-londres/
LOCATION:Excel Exhibition Centre\, Londres\, Royaume-Uni
END:VEVENT
BEGIN:VEVENT
DTSTART;VALUE=DATE:20170319
DTEND;VALUE=DATE:20170323
DTSTAMP:20260421T135208
CREATED:20170216T092430Z
LAST-MODIFIED:20170216T092651Z
UID:1891-1489881600-1490227199@ekip.com
SUMMARY:FRANCHISE EXPO - Paris
DESCRIPTION:Cet événement international regroupe tous les acteurs du marché qui accompagnent au quotidien créateurs d’entreprises et réseaux. \nC’est un carrefour de rencontre de plus de 35000 investisseurs\, créateurs d’entreprises ou encore commerçants : \n500 exposants\, 80 secteurs d’activités et 120 conférences ou ateliers
URL:https://ekip.com/event/franchise-expo-paris/
LOCATION:Paris Porte de Versailles\, Paris\, France
END:VEVENT
END:VCALENDAR