BEGIN:VCALENDAR
VERSION:2.0
PRODID:-//EKIP - ECPv6.15.20//NONSGML v1.0//EN
CALSCALE:GREGORIAN
METHOD:PUBLISH
X-WR-CALNAME:EKIP
X-ORIGINAL-URL:https://ekip.com
X-WR-CALDESC:Évènements pour EKIP
REFRESH-INTERVAL;VALUE=DURATION:PT1H
X-Robots-Tag:noindex
X-PUBLISHED-TTL:PT1H
BEGIN:VTIMEZONE
TZID:Europe/Paris
BEGIN:DAYLIGHT
TZOFFSETFROM:+0100
TZOFFSETTO:+0200
TZNAME:CEST
DTSTART:20160327T010000
END:DAYLIGHT
BEGIN:STANDARD
TZOFFSETFROM:+0200
TZOFFSETTO:+0100
TZNAME:CET
DTSTART:20161030T010000
END:STANDARD
BEGIN:DAYLIGHT
TZOFFSETFROM:+0100
TZOFFSETTO:+0200
TZNAME:CEST
DTSTART:20170326T010000
END:DAYLIGHT
BEGIN:STANDARD
TZOFFSETFROM:+0200
TZOFFSETTO:+0100
TZNAME:CET
DTSTART:20171029T010000
END:STANDARD
BEGIN:DAYLIGHT
TZOFFSETFROM:+0100
TZOFFSETTO:+0200
TZNAME:CEST
DTSTART:20180325T010000
END:DAYLIGHT
BEGIN:STANDARD
TZOFFSETFROM:+0200
TZOFFSETTO:+0100
TZNAME:CET
DTSTART:20181028T010000
END:STANDARD
END:VTIMEZONE
BEGIN:VEVENT
DTSTART;VALUE=DATE:20170922
DTEND;VALUE=DATE:20170925
DTSTAMP:20260421T042652
CREATED:20170703T115341Z
LAST-MODIFIED:20170703T122346Z
UID:2054-1506038400-1506297599@ekip.com
SUMMARY:7ème FETE de la GASTRONOMIE
DESCRIPTION:Stéphane Layani\, PDG du Marché d’intérêt nationale Rungis sera le parrain de la Fête de la Gastronomie 2017 !\nPartout en France\, ce sont 3 jours de fête offerts à tous\, pour célébrer toute la Gastronomie et mettre en valeur ses acteurs ! \nInitiée au Ministère de l’Économie\, en partenariat avec le Ministère de l’Agriculture la Fête de la Gastronomie est un événement national et international dédié à la gastronomie\, à ses acteurs et à ses savoir-faire. Depuis 2011\, ce grand rendez-vous populaire permet aux professionnels de partager leurs talents et leurs savoir-faire\, de sensibiliser au choix des produits et à la diversité des terroirs français. Banquets\, dégustations\, pique-niques\, ateliers\, conférences… Il y en a pour tous les goûts\, partout en France et à l’étranger ! Partie intégrante de notre patrimoine culturel et de notre identité\, la gastronomie est vivante. Elle participe au dynamisme économique de nos régions et au rayonnement de la France à l’international. \nRetrouvez le programme près de chez vous dans la rubrique Tous les événements \nDevenez ACTEUR de l’événement !\nParticulier\, entreprise\, association\, fédération professionnelle\, collectivité territoriale… Vos idées et projets sont les bienvenus. Pour proposer une opération et ainsi participer à ce grand événement national\, complétez le formulaire en ligne.
URL:https://ekip.com/event/7eme-fete-de-la-gastronomie/
LOCATION:France\, France
END:VEVENT
BEGIN:VEVENT
DTSTART;VALUE=DATE:20170923
DTEND;VALUE=DATE:20170927
DTSTAMP:20260421T042652
CREATED:20170830T092842Z
LAST-MODIFIED:20170830T092849Z
UID:2101-1506124800-1506470399@ekip.com
SUMMARY:SUDBACK 2017 - Stuttgart - Allemagne
DESCRIPTION:Durant 4 jours\, les 700 exposants présenteront toutes les tendances en Boulangerie et pâtisserie. \nDémonstrations et conférences seront également animées par les meilleurs professionnels.
URL:https://ekip.com/event/sudback-2017-stuttgart-allemagne/
LOCATION:Stuttgart International Congress Center\, Stuttgart\, Allemagne
END:VEVENT
BEGIN:VEVENT
DTSTART;VALUE=DATE:20170924
DTEND;VALUE=DATE:20170926
DTSTAMP:20260421T042652
CREATED:20161102T160502Z
LAST-MODIFIED:20161102T160506Z
UID:1559-1506211200-1506383999@ekip.com
SUMMARY:Gourmet Food & Wine Selection - Paris
DESCRIPTION:
URL:https://ekip.com/event/gourmet-food-wine-selection-paris/
LOCATION:Paris Porte de Versailles\, Paris\, France
END:VEVENT
END:VCALENDAR