BEGIN:VCALENDAR
VERSION:2.0
PRODID:-//EKIP - ECPv6.15.20//NONSGML v1.0//EN
CALSCALE:GREGORIAN
METHOD:PUBLISH
X-ORIGINAL-URL:https://ekip.com
X-WR-CALDESC:Évènements pour EKIP
REFRESH-INTERVAL;VALUE=DURATION:PT1H
X-Robots-Tag:noindex
X-PUBLISHED-TTL:PT1H
BEGIN:VTIMEZONE
TZID:Europe/Paris
BEGIN:DAYLIGHT
TZOFFSETFROM:+0100
TZOFFSETTO:+0200
TZNAME:CEST
DTSTART:20170326T010000
END:DAYLIGHT
BEGIN:STANDARD
TZOFFSETFROM:+0200
TZOFFSETTO:+0100
TZNAME:CET
DTSTART:20171029T010000
END:STANDARD
BEGIN:DAYLIGHT
TZOFFSETFROM:+0100
TZOFFSETTO:+0200
TZNAME:CEST
DTSTART:20180325T010000
END:DAYLIGHT
BEGIN:STANDARD
TZOFFSETFROM:+0200
TZOFFSETTO:+0100
TZNAME:CET
DTSTART:20181028T010000
END:STANDARD
BEGIN:DAYLIGHT
TZOFFSETFROM:+0100
TZOFFSETTO:+0200
TZNAME:CEST
DTSTART:20190331T010000
END:DAYLIGHT
BEGIN:STANDARD
TZOFFSETFROM:+0200
TZOFFSETTO:+0100
TZNAME:CET
DTSTART:20191027T010000
END:STANDARD
END:VTIMEZONE
BEGIN:VEVENT
DTSTART;VALUE=DATE:20180325
DTEND;VALUE=DATE:20180329
DTSTAMP:20260420T175906
CREATED:20171218T151704Z
LAST-MODIFIED:20171218T160151Z
UID:2186-1521936000-1522281599@ekip.com
SUMMARY:FRANCHISE EXPO - Paris
DESCRIPTION:37ème édition du Salon de la Franchise
URL:https://ekip.com/event/franchise-expo-paris-2/
LOCATION:Paris Porte de Versailles\, Paris\, France
END:VEVENT
BEGIN:VEVENT
DTSTART;VALUE=DATE:20180327
DTEND;VALUE=DATE:20180330
DTSTAMP:20260420T175906
CREATED:20171220T152709Z
LAST-MODIFIED:20171220T154404Z
UID:2194-1522108800-1522367999@ekip.com
SUMMARY:AGROFOOD - Lagos - Nigéria
DESCRIPTION:Salon dédié à l’Equipement\, au Process et à l’Emballage \nPrésence d’un pavillon France. Toutes informations et contact auprès de l’ADEPTA
URL:https://ekip.com/event/agrofood-lagos-nigeria-3/
LOCATION:Lagos\, Nigeria
END:VEVENT
END:VCALENDAR