BEGIN:VCALENDAR
VERSION:2.0
PRODID:-//EKIP - ECPv6.15.20//NONSGML v1.0//EN
CALSCALE:GREGORIAN
METHOD:PUBLISH
X-ORIGINAL-URL:https://ekip.com
X-WR-CALDESC:Évènements pour EKIP
REFRESH-INTERVAL;VALUE=DURATION:PT1H
X-Robots-Tag:noindex
X-PUBLISHED-TTL:PT1H
BEGIN:VTIMEZONE
TZID:Europe/Paris
BEGIN:DAYLIGHT
TZOFFSETFROM:+0100
TZOFFSETTO:+0200
TZNAME:CEST
DTSTART:20170326T010000
END:DAYLIGHT
BEGIN:STANDARD
TZOFFSETFROM:+0200
TZOFFSETTO:+0100
TZNAME:CET
DTSTART:20171029T010000
END:STANDARD
BEGIN:DAYLIGHT
TZOFFSETFROM:+0100
TZOFFSETTO:+0200
TZNAME:CEST
DTSTART:20180325T010000
END:DAYLIGHT
BEGIN:STANDARD
TZOFFSETFROM:+0200
TZOFFSETTO:+0100
TZNAME:CET
DTSTART:20181028T010000
END:STANDARD
BEGIN:DAYLIGHT
TZOFFSETFROM:+0100
TZOFFSETTO:+0200
TZNAME:CEST
DTSTART:20190331T010000
END:DAYLIGHT
BEGIN:STANDARD
TZOFFSETFROM:+0200
TZOFFSETTO:+0100
TZNAME:CET
DTSTART:20191027T010000
END:STANDARD
END:VTIMEZONE
BEGIN:VEVENT
DTSTART;VALUE=DATE:20180615
DTEND;VALUE=DATE:20180618
DTSTAMP:20260420T145335
CREATED:20180215T092521Z
LAST-MODIFIED:20180215T093133Z
UID:2322-1529020800-1529279999@ekip.com
SUMMARY:Salon de la Pâtisserie - Paris
DESCRIPTION:Le plus grand Salon de la Pâtisserie s’installe à Paris du 15 au 17 juin 2018\, Porte de Versailles.\nUne première édition qui annonce 200 exposants \,6 000 m2 de surface. et 5 univers.\nElu  « Meilleur Pâtissier du Monde » par l’Académie des World’s 50 Best Restaurants en 2016 et surnommé le « Picasso of Pastry » par Vogue USA\, Pierre Hermé présidera ce nouvel événement.\n\n50 cours de pâtisserie\, 200 exposants\, 10 Master Class\, 2 concours officiels et près de 50 000 visiteurs sont attendus pour cette première édition qui s’annonce énorme
URL:https://ekip.com/event/salon-de-la-patisserie-paris/
LOCATION:Paris Porte de Versailles\, Paris\, France
END:VEVENT
END:VCALENDAR