BEGIN:VCALENDAR
VERSION:2.0
PRODID:-//EKIP - ECPv6.15.20//NONSGML v1.0//EN
CALSCALE:GREGORIAN
METHOD:PUBLISH
X-WR-CALNAME:EKIP
X-ORIGINAL-URL:https://ekip.com
X-WR-CALDESC:Évènements pour EKIP
REFRESH-INTERVAL;VALUE=DURATION:PT1H
X-Robots-Tag:noindex
X-PUBLISHED-TTL:PT1H
BEGIN:VTIMEZONE
TZID:Europe/Paris
BEGIN:DAYLIGHT
TZOFFSETFROM:+0100
TZOFFSETTO:+0200
TZNAME:CEST
DTSTART:20170326T010000
END:DAYLIGHT
BEGIN:STANDARD
TZOFFSETFROM:+0200
TZOFFSETTO:+0100
TZNAME:CET
DTSTART:20171029T010000
END:STANDARD
BEGIN:DAYLIGHT
TZOFFSETFROM:+0100
TZOFFSETTO:+0200
TZNAME:CEST
DTSTART:20180325T010000
END:DAYLIGHT
BEGIN:STANDARD
TZOFFSETFROM:+0200
TZOFFSETTO:+0100
TZNAME:CET
DTSTART:20181028T010000
END:STANDARD
BEGIN:DAYLIGHT
TZOFFSETFROM:+0100
TZOFFSETTO:+0200
TZNAME:CEST
DTSTART:20190331T010000
END:DAYLIGHT
BEGIN:STANDARD
TZOFFSETFROM:+0200
TZOFFSETTO:+0100
TZNAME:CET
DTSTART:20191027T010000
END:STANDARD
END:VTIMEZONE
BEGIN:VEVENT
DTSTART;VALUE=DATE:20181208
DTEND;VALUE=DATE:20181211
DTSTAMP:20260420T050731
CREATED:20180720T071400Z
LAST-MODIFIED:20180720T074650Z
UID:2575-1544227200-1544486399@ekip.com
SUMMARY:FOOD AFRICA 2018 - Le Caire - Egypte
DESCRIPTION:4ème édition de ce salon dédié aux produits alimentaires\, à la boulangerie\, la pâtisserie\, aux fruits\, au thé\, au café…. \nOutre la surface d’exposition qui avait accueilli 294 exposant en 2017\, les visiteurs pourront assister à des conférences autour des thématiques « Tendances » ou encore « Sécurité alimentaire ». \nUn espace est également aménager pour des démonstrations. \nEn parallèle se tiendra Mac Fruits Attraction
URL:https://ekip.com/event/food-africa-2018-le-caire-egypte/
LOCATION:Cairo International Convention & Exhibition center\, Le Caire\, Égypte
END:VEVENT
END:VCALENDAR