BEGIN:VCALENDAR
VERSION:2.0
PRODID:-//EKIP - ECPv6.15.20//NONSGML v1.0//EN
CALSCALE:GREGORIAN
METHOD:PUBLISH
X-ORIGINAL-URL:https://ekip.com
X-WR-CALDESC:Évènements pour EKIP
REFRESH-INTERVAL;VALUE=DURATION:PT1H
X-Robots-Tag:noindex
X-PUBLISHED-TTL:PT1H
BEGIN:VTIMEZONE
TZID:Europe/Paris
BEGIN:DAYLIGHT
TZOFFSETFROM:+0100
TZOFFSETTO:+0200
TZNAME:CEST
DTSTART:20180325T010000
END:DAYLIGHT
BEGIN:STANDARD
TZOFFSETFROM:+0200
TZOFFSETTO:+0100
TZNAME:CET
DTSTART:20181028T010000
END:STANDARD
BEGIN:DAYLIGHT
TZOFFSETFROM:+0100
TZOFFSETTO:+0200
TZNAME:CEST
DTSTART:20190331T010000
END:DAYLIGHT
BEGIN:STANDARD
TZOFFSETFROM:+0200
TZOFFSETTO:+0100
TZNAME:CET
DTSTART:20191027T010000
END:STANDARD
BEGIN:DAYLIGHT
TZOFFSETFROM:+0100
TZOFFSETTO:+0200
TZNAME:CEST
DTSTART:20200329T010000
END:DAYLIGHT
BEGIN:STANDARD
TZOFFSETFROM:+0200
TZOFFSETTO:+0100
TZNAME:CET
DTSTART:20201025T010000
END:STANDARD
END:VTIMEZONE
BEGIN:VEVENT
DTSTART;VALUE=DATE:20190206
DTEND;VALUE=DATE:20190208
DTSTAMP:20260420T014643
CREATED:20181218T152807Z
LAST-MODIFIED:20181218T152923Z
UID:2804-1549411200-1549583999@ekip.com
SUMMARY:Salon des Entrepreneurs - Paris
DESCRIPTION:Pour sa 26ième édition\, le salon réunit 400 partenaires et exposants. Ce ne sont pas moins de 65000 entrepreneurs qui sont attendus pour assister aux quelques 200 conférences ou workshops.
URL:https://ekip.com/event/salon-des-entrepreneurs-paris-2/
LOCATION:Palais des Congrès Paris\, Paris\, France
END:VEVENT
BEGIN:VEVENT
DTSTART;VALUE=DATE:20190207
DTEND;VALUE=DATE:20190208
DTSTAMP:20260420T014643
CREATED:20181122T141705Z
LAST-MODIFIED:20181122T142635Z
UID:2765-1549497600-1549583999@ekip.com
SUMMARY:Colloque " Futur du Pain\, Pains du futur...
DESCRIPTION:…et autres aliments céréaliers.\nLe Fonds de Dotation EKIP co-organise son 3ème colloque avec l’INRA.\nLes conférenciers et experts se succéderont pour évoquer les différentes sources de protéines végétales\, les procédés de transformation \, les moyens de limiter les facteurs anti nutritionnels\, les ingrédients bio\, le clean label… Les exposés porteront essentiellement sur des données scientifiques et techniques…\nLe programme complet sera édité début 2019.
URL:https://ekip.com/event/colloque-futur-du-pain-pains-du-futur/
LOCATION:Paris\, France
END:VEVENT
END:VCALENDAR