BEGIN:VCALENDAR
VERSION:2.0
PRODID:-//EKIP - ECPv6.15.20//NONSGML v1.0//EN
CALSCALE:GREGORIAN
METHOD:PUBLISH
X-WR-CALNAME:EKIP
X-ORIGINAL-URL:https://ekip.com
X-WR-CALDESC:Évènements pour EKIP
REFRESH-INTERVAL;VALUE=DURATION:PT1H
X-Robots-Tag:noindex
X-PUBLISHED-TTL:PT1H
BEGIN:VTIMEZONE
TZID:Europe/Paris
BEGIN:DAYLIGHT
TZOFFSETFROM:+0100
TZOFFSETTO:+0200
TZNAME:CEST
DTSTART:20180325T010000
END:DAYLIGHT
BEGIN:STANDARD
TZOFFSETFROM:+0200
TZOFFSETTO:+0100
TZNAME:CET
DTSTART:20181028T010000
END:STANDARD
BEGIN:DAYLIGHT
TZOFFSETFROM:+0100
TZOFFSETTO:+0200
TZNAME:CEST
DTSTART:20190331T010000
END:DAYLIGHT
BEGIN:STANDARD
TZOFFSETFROM:+0200
TZOFFSETTO:+0100
TZNAME:CET
DTSTART:20191027T010000
END:STANDARD
BEGIN:DAYLIGHT
TZOFFSETFROM:+0100
TZOFFSETTO:+0200
TZNAME:CEST
DTSTART:20200329T010000
END:DAYLIGHT
BEGIN:STANDARD
TZOFFSETFROM:+0200
TZOFFSETTO:+0100
TZNAME:CET
DTSTART:20201025T010000
END:STANDARD
END:VTIMEZONE
BEGIN:VEVENT
DTSTART;VALUE=DATE:20190222
DTEND;VALUE=DATE:20190225
DTSTAMP:20260420T014403
CREATED:20181029T134400Z
LAST-MODIFIED:20181029T134406Z
UID:2730-1550793600-1551052799@ekip.com
SUMMARY:Food & Beverages et Food & Hospitality - Nairobi - Kenya
DESCRIPTION:Salon international dédié à la filière alimentaire (que ce soit en termes de process\, d’équipements mais aussi d’ingrédients). \nLes exposants sont originaires de 16 pays\, quant aux visiteurs ils viennent du Kenya et de tous les pays voisins de l’Est africain.
URL:https://ekip.com/event/food-beverages-et-food-hospitality-nairobi-kenya/
LOCATION:Sarit Centre – Nairobi –\, NAIROBI\, Kenya
END:VEVENT
END:VCALENDAR