BEGIN:VCALENDAR
VERSION:2.0
PRODID:-//EKIP - ECPv6.15.20//NONSGML v1.0//EN
CALSCALE:GREGORIAN
METHOD:PUBLISH
X-WR-CALNAME:EKIP
X-ORIGINAL-URL:https://ekip.com
X-WR-CALDESC:Évènements pour EKIP
REFRESH-INTERVAL;VALUE=DURATION:PT1H
X-Robots-Tag:noindex
X-PUBLISHED-TTL:PT1H
BEGIN:VTIMEZONE
TZID:Europe/Paris
BEGIN:DAYLIGHT
TZOFFSETFROM:+0100
TZOFFSETTO:+0200
TZNAME:CEST
DTSTART:20180325T010000
END:DAYLIGHT
BEGIN:STANDARD
TZOFFSETFROM:+0200
TZOFFSETTO:+0100
TZNAME:CET
DTSTART:20181028T010000
END:STANDARD
BEGIN:DAYLIGHT
TZOFFSETFROM:+0100
TZOFFSETTO:+0200
TZNAME:CEST
DTSTART:20190331T010000
END:DAYLIGHT
BEGIN:STANDARD
TZOFFSETFROM:+0200
TZOFFSETTO:+0100
TZNAME:CET
DTSTART:20191027T010000
END:STANDARD
BEGIN:DAYLIGHT
TZOFFSETFROM:+0100
TZOFFSETTO:+0200
TZNAME:CEST
DTSTART:20200329T010000
END:DAYLIGHT
BEGIN:STANDARD
TZOFFSETFROM:+0200
TZOFFSETTO:+0100
TZNAME:CET
DTSTART:20201025T010000
END:STANDARD
END:VTIMEZONE
BEGIN:VEVENT
DTSTART;VALUE=DATE:20190223
DTEND;VALUE=DATE:20190304
DTSTAMP:20260420T000127
CREATED:20190215T091656Z
LAST-MODIFIED:20190215T092022Z
UID:2929-1550880000-1551657599@ekip.com
SUMMARY:Salon International de l'Agriculture - Paris
DESCRIPTION:Pour cette édition\, la thématique retenue est « Des femmes\, des hommes\, des talents ». \nJean-Luc POULAIN\, Président du salon nous parle du thème : \n« A travers l’agriculture\, des femmes et des hommes construisent et entretiennent l’éco-système\, domestiquent des espèces animales\, produisent des matières premières naturelles et transmettent des valeurs. \nActivité indispensable et fondamentale pour tous les pays et toutes les sociétés\, l’agriculture nécessite de la part de ceux qui la font la maîtrise d’un grand nombre de savoir-faire\, le sens de l’adaptation et la créativité. \nDans le prolongement des discussions d’actualité sur la reconnaissance du travail agricole\, la question du juste prix\, les métiers de l’agriculture\, l’attention portée par les consommateurs à la traçabilité et donc « la façon de faire »\, le Salon International de l’Agriculture fait la part belle aux femmes et hommes qui développent leurs talents aux services de l’alimentation des citoyens. »
URL:https://ekip.com/event/salon-international-de-lagriculture-paris/
LOCATION:Paris Porte de Versailles\, Paris\, France
END:VEVENT
BEGIN:VEVENT
DTSTART;VALUE=DATE:20190225
DTEND;VALUE=DATE:20190301
DTSTAMP:20260420T000127
CREATED:20180828T121714Z
LAST-MODIFIED:20180828T121714Z
UID:2598-1551052800-1551398399@ekip.com
SUMMARY:Djazagro - Alger
DESCRIPTION:DJAZAGRO\, créé en 2003 à Alger\, est le salon professionnel de la production agroalimentaire\nSalon de référence en Algérie\, DJAZAGRO est le rendez-vous annuel incontournable\, avec une offre internationale et globale\, répartie sur 5 secteurs : Process & Conditionnement\, Boulangerie – Pâtisserie\, Produits alimentaires & boissons\, Ingrédients & Arômes\, Restauration. \nComme pour chaque édition de ce salon référent\, un pavillon France sera coordonné par l’ADEPTA.
URL:https://ekip.com/event/djazagro-alger-2/
LOCATION:Palais des expositions Safex\, Alger\, Algérie
END:VEVENT
END:VCALENDAR