BEGIN:VCALENDAR
VERSION:2.0
PRODID:-//EKIP - ECPv6.15.20//NONSGML v1.0//EN
CALSCALE:GREGORIAN
METHOD:PUBLISH
X-ORIGINAL-URL:https://ekip.com
X-WR-CALDESC:Évènements pour EKIP
REFRESH-INTERVAL;VALUE=DURATION:PT1H
X-Robots-Tag:noindex
X-PUBLISHED-TTL:PT1H
BEGIN:VTIMEZONE
TZID:Europe/Paris
BEGIN:DAYLIGHT
TZOFFSETFROM:+0100
TZOFFSETTO:+0200
TZNAME:CEST
DTSTART:20180325T010000
END:DAYLIGHT
BEGIN:STANDARD
TZOFFSETFROM:+0200
TZOFFSETTO:+0100
TZNAME:CET
DTSTART:20181028T010000
END:STANDARD
BEGIN:DAYLIGHT
TZOFFSETFROM:+0100
TZOFFSETTO:+0200
TZNAME:CEST
DTSTART:20190331T010000
END:DAYLIGHT
BEGIN:STANDARD
TZOFFSETFROM:+0200
TZOFFSETTO:+0100
TZNAME:CET
DTSTART:20191027T010000
END:STANDARD
BEGIN:DAYLIGHT
TZOFFSETFROM:+0100
TZOFFSETTO:+0200
TZNAME:CEST
DTSTART:20200329T010000
END:DAYLIGHT
BEGIN:STANDARD
TZOFFSETFROM:+0200
TZOFFSETTO:+0100
TZNAME:CET
DTSTART:20201025T010000
END:STANDARD
END:VTIMEZONE
BEGIN:VEVENT
DTSTART;VALUE=DATE:20190312
DTEND;VALUE=DATE:20190315
DTSTAMP:20260420T000338
CREATED:20181107T150215Z
LAST-MODIFIED:20181107T150227Z
UID:2761-1552348800-1552607999@ekip.com
SUMMARY:CFIA - Rennes
DESCRIPTION:le salon référent de l’industrie Agroalimentaire.
URL:https://ekip.com/event/cfia-rennes-4/
LOCATION:Parc des Expo Rennes Aéroport\, RENNES\, 35000\, France
END:VEVENT
BEGIN:VEVENT
DTSTART;VALUE=DATE:20190312
DTEND;VALUE=DATE:20190316
DTSTAMP:20260420T000338
CREATED:20181107T145628Z
LAST-MODIFIED:20181107T145628Z
UID:2756-1552348800-1552694399@ekip.com
SUMMARY:MODERN BAKERY -Moscou - Russie
DESCRIPTION:Salon international de la filière boulangerie pâtisserie confiserie (ingredients\, matériels…)
URL:https://ekip.com/event/modern-bakery-moscou-russie-2/
LOCATION:Moscou\, Moscou\, Russie\, Fédération de
END:VEVENT
END:VCALENDAR