BEGIN:VCALENDAR
VERSION:2.0
PRODID:-//EKIP - ECPv6.15.20//NONSGML v1.0//EN
CALSCALE:GREGORIAN
METHOD:PUBLISH
X-WR-CALNAME:EKIP
X-ORIGINAL-URL:https://ekip.com
X-WR-CALDESC:Évènements pour EKIP
REFRESH-INTERVAL;VALUE=DURATION:PT1H
X-Robots-Tag:noindex
X-PUBLISHED-TTL:PT1H
BEGIN:VTIMEZONE
TZID:Europe/Paris
BEGIN:DAYLIGHT
TZOFFSETFROM:+0100
TZOFFSETTO:+0200
TZNAME:CEST
DTSTART:20180325T010000
END:DAYLIGHT
BEGIN:STANDARD
TZOFFSETFROM:+0200
TZOFFSETTO:+0100
TZNAME:CET
DTSTART:20181028T010000
END:STANDARD
BEGIN:DAYLIGHT
TZOFFSETFROM:+0100
TZOFFSETTO:+0200
TZNAME:CEST
DTSTART:20190331T010000
END:DAYLIGHT
BEGIN:STANDARD
TZOFFSETFROM:+0200
TZOFFSETTO:+0100
TZNAME:CET
DTSTART:20191027T010000
END:STANDARD
BEGIN:DAYLIGHT
TZOFFSETFROM:+0100
TZOFFSETTO:+0200
TZNAME:CEST
DTSTART:20200329T010000
END:DAYLIGHT
BEGIN:STANDARD
TZOFFSETFROM:+0200
TZOFFSETTO:+0100
TZNAME:CET
DTSTART:20201025T010000
END:STANDARD
END:VTIMEZONE
BEGIN:VEVENT
DTSTART;VALUE=DATE:20190317
DTEND;VALUE=DATE:20190320
DTSTAMP:20260420T000141
CREATED:20180703T064910Z
LAST-MODIFIED:20180703T070908Z
UID:2549-1552780800-1553039999@ekip.com
SUMMARY:HORESTA -  Biarritz
DESCRIPTION:3ème édition du Salon de l’Hôtellerie\, de la Restauration et des Métiers de l’Alimentation. \nPour cette nouvelle édition\, le visiteur pourra découvrir un développement de l’offre en boulangerie.
URL:https://ekip.com/event/horesta-biarritz/
LOCATION:Halle d’Iraty\, Biarritz\, France
END:VEVENT
BEGIN:VEVENT
DTSTART;VALUE=DATE:20190317
DTEND;VALUE=DATE:20190321
DTSTAMP:20260420T000141
CREATED:20180911T065545Z
LAST-MODIFIED:20180911T065551Z
UID:2638-1552780800-1553126399@ekip.com
SUMMARY:Franchise Expo - Paris
DESCRIPTION:Le moment privilégié qui permet la rencontre de plus de 35 600 investisseurs\, créateurs d’entreprise et commerçants avec les dirigeants de 462 enseignes françaises et internationales.\nCet événement regroupe tous les acteurs du marché (banques\, fédérations\, avocats\, experts-comptables\, conseils …) qui accompagnent les créateurs d’entreprises et les réseaux.
URL:https://ekip.com/event/franchise-expo-paris-3/
LOCATION:Paris Porte de Versailles\, Paris\, France
END:VEVENT
BEGIN:VEVENT
DTSTART;VALUE=DATE:20190317
DTEND;VALUE=DATE:20190321
DTSTAMP:20260420T000141
CREATED:20190301T090226Z
LAST-MODIFIED:20190301T090401Z
UID:2992-1552780800-1553126399@ekip.com
SUMMARY:FBK - Berne-Suisse
DESCRIPTION:34ième édition du salon suisse dédié au matériel de boulangerie\, pâtisserie et confiserie.
URL:https://ekip.com/event/fbk-bern-suisse/
LOCATION:Foire de Berne\, Berne\, Suisse
END:VEVENT
END:VCALENDAR