BEGIN:VCALENDAR
VERSION:2.0
PRODID:-//EKIP - ECPv6.15.20//NONSGML v1.0//EN
CALSCALE:GREGORIAN
METHOD:PUBLISH
X-WR-CALNAME:EKIP
X-ORIGINAL-URL:https://ekip.com
X-WR-CALDESC:Évènements pour EKIP
REFRESH-INTERVAL;VALUE=DURATION:PT1H
X-Robots-Tag:noindex
X-PUBLISHED-TTL:PT1H
BEGIN:VTIMEZONE
TZID:Europe/Paris
BEGIN:DAYLIGHT
TZOFFSETFROM:+0100
TZOFFSETTO:+0200
TZNAME:CEST
DTSTART:20180325T010000
END:DAYLIGHT
BEGIN:STANDARD
TZOFFSETFROM:+0200
TZOFFSETTO:+0100
TZNAME:CET
DTSTART:20181028T010000
END:STANDARD
BEGIN:DAYLIGHT
TZOFFSETFROM:+0100
TZOFFSETTO:+0200
TZNAME:CEST
DTSTART:20190331T010000
END:DAYLIGHT
BEGIN:STANDARD
TZOFFSETFROM:+0200
TZOFFSETTO:+0100
TZNAME:CET
DTSTART:20191027T010000
END:STANDARD
BEGIN:DAYLIGHT
TZOFFSETFROM:+0100
TZOFFSETTO:+0200
TZNAME:CEST
DTSTART:20200329T010000
END:DAYLIGHT
BEGIN:STANDARD
TZOFFSETFROM:+0200
TZOFFSETTO:+0100
TZNAME:CET
DTSTART:20201025T010000
END:STANDARD
END:VTIMEZONE
BEGIN:VEVENT
DTSTART;VALUE=DATE:20190401
DTEND;VALUE=DATE:20190402
DTSTAMP:20260419T221352
CREATED:20190124T121639Z
LAST-MODIFIED:20190124T121650Z
UID:2889-1554076800-1554163199@ekip.com
SUMMARY:Coupe de France du Burger
DESCRIPTION:La finale de la 4ème édition de la Coupe de France du Burger aura lieu le 1er avril 2019. \nLe thème retenu est : Le goût des régions. \nLes candidats peuvent s’inscrire jusqu’au 31 janvier 2019
URL:https://ekip.com/event/coupe-de-france-du-burger/
LOCATION:Paris Porte de Versailles\, Paris\, France
END:VEVENT
BEGIN:VEVENT
DTSTART;VALUE=DATE:20190401
DTEND;VALUE=DATE:20190403
DTSTAMP:20260419T221352
CREATED:20180507T143755Z
LAST-MODIFIED:20180507T143801Z
UID:2449-1554076800-1554249599@ekip.com
SUMMARY:Sandwich and Snack show - Paris
DESCRIPTION:Le rendez-vous des professionnels du snacking\, de la restauration nomade et de la restauration japonaise
URL:https://ekip.com/event/sandwich-and-snack-show-paris-2/
LOCATION:Paris Porte de Versailles\, Paris\, France
END:VEVENT
BEGIN:VEVENT
DTSTART;VALUE=DATE:20190401
DTEND;VALUE=DATE:20190403
DTSTAMP:20260419T221352
CREATED:20181219T122259Z
LAST-MODIFIED:20181219T122304Z
UID:2807-1554076800-1554249599@ekip.com
SUMMARY:Parizza- Paris
DESCRIPTION:Le salon référence de la restauration italienne. Pour retrouver toutes les tendances\, nouveaux concepts mais aussi assister aux conférences données par 90 experts.\nLe salon accueillera également le 14ième Championnat de France de Pizza.
URL:https://ekip.com/event/parizza-paris/
LOCATION:Paris Porte de Versailles\, Paris\, France
END:VEVENT
BEGIN:VEVENT
DTSTART;VALUE=DATE:20190401
DTEND;VALUE=DATE:20190403
DTSTAMP:20260419T221352
CREATED:20181219T123506Z
LAST-MODIFIED:20181219T123531Z
UID:2811-1554076800-1554249599@ekip.com
SUMMARY:Japan Food Show - Paris
DESCRIPTION:4ième édition du salon professionnel de la restauration japonaise.
URL:https://ekip.com/event/japanfood-paris/
LOCATION:Paris Porte de Versailles\, Paris\, France
END:VEVENT
END:VCALENDAR