BEGIN:VCALENDAR
VERSION:2.0
PRODID:-//EKIP - ECPv6.15.20//NONSGML v1.0//EN
CALSCALE:GREGORIAN
METHOD:PUBLISH
X-WR-CALNAME:EKIP
X-ORIGINAL-URL:https://ekip.com
X-WR-CALDESC:Évènements pour EKIP
REFRESH-INTERVAL;VALUE=DURATION:PT1H
X-Robots-Tag:noindex
X-PUBLISHED-TTL:PT1H
BEGIN:VTIMEZONE
TZID:Europe/Paris
BEGIN:DAYLIGHT
TZOFFSETFROM:+0100
TZOFFSETTO:+0200
TZNAME:CEST
DTSTART:20180325T010000
END:DAYLIGHT
BEGIN:STANDARD
TZOFFSETFROM:+0200
TZOFFSETTO:+0100
TZNAME:CET
DTSTART:20181028T010000
END:STANDARD
BEGIN:DAYLIGHT
TZOFFSETFROM:+0100
TZOFFSETTO:+0200
TZNAME:CEST
DTSTART:20190331T010000
END:DAYLIGHT
BEGIN:STANDARD
TZOFFSETFROM:+0200
TZOFFSETTO:+0100
TZNAME:CET
DTSTART:20191027T010000
END:STANDARD
BEGIN:DAYLIGHT
TZOFFSETFROM:+0100
TZOFFSETTO:+0200
TZNAME:CEST
DTSTART:20200329T010000
END:DAYLIGHT
BEGIN:STANDARD
TZOFFSETFROM:+0200
TZOFFSETTO:+0100
TZNAME:CET
DTSTART:20201025T010000
END:STANDARD
END:VTIMEZONE
BEGIN:VEVENT
DTSTART;VALUE=DATE:20190413
DTEND;VALUE=DATE:20190416
DTSTAMP:20260420T000011
CREATED:20181129T102529Z
LAST-MODIFIED:20181129T102534Z
UID:2774-1555113600-1555372799@ekip.com
SUMMARY:SACHSENBACK - Dresde - Allemagne
DESCRIPTION:20ième édition du Salon de la Boulangerie-Pâtisserie et Confiserie. \n3 jours de rencontres riches en échanges où les visiteurs\, et plus particulièrement ceux du Centre et de l’Est de l’Allemagne\, pourront trouver toutes les solutions en terme d’équipements ou de communication et commercialisation\, mais aussi découvrir une large gamme de matières premières et ingrédients.
URL:https://ekip.com/event/sachsenback-dresde-allemagne/
LOCATION:Dresden Traide Fair Centre\, Dresden\, Allemagne
END:VEVENT
BEGIN:VEVENT
DTSTART;VALUE=DATE:20190415
DTEND;VALUE=DATE:20190419
DTSTAMP:20260420T000011
CREATED:20181105T120817Z
LAST-MODIFIED:20181105T120831Z
UID:2738-1555286400-1555631999@ekip.com
SUMMARY:AGROFOOD - Bagdad- Irak
DESCRIPTION:Agrofood\, le salon iraquien des équipements\, des matières premières et des ingrédients accueillera un pavillon France qui sera coordonné par l’ADEPTA. \nOpportunités et priorités du pays : \nBoulangerie\, Pâtisserie\, Glacerie \nTransformation du lait\, des fruits\, des légumes\, de la viande et du poisson. \nEmballage et conditionnement \n 
URL:https://ekip.com/event/agrofood-bagdad-irak/
LOCATION:Bagdad\, Bagdad\, Irak
END:VEVENT
END:VCALENDAR