BEGIN:VCALENDAR
VERSION:2.0
PRODID:-//EKIP - ECPv6.15.20//NONSGML v1.0//EN
CALSCALE:GREGORIAN
METHOD:PUBLISH
X-WR-CALNAME:EKIP
X-ORIGINAL-URL:https://ekip.com
X-WR-CALDESC:Évènements pour EKIP
REFRESH-INTERVAL;VALUE=DURATION:PT1H
X-Robots-Tag:noindex
X-PUBLISHED-TTL:PT1H
BEGIN:VTIMEZONE
TZID:Europe/Paris
BEGIN:DAYLIGHT
TZOFFSETFROM:+0100
TZOFFSETTO:+0200
TZNAME:CEST
DTSTART:20180325T010000
END:DAYLIGHT
BEGIN:STANDARD
TZOFFSETFROM:+0200
TZOFFSETTO:+0100
TZNAME:CET
DTSTART:20181028T010000
END:STANDARD
BEGIN:DAYLIGHT
TZOFFSETFROM:+0100
TZOFFSETTO:+0200
TZNAME:CEST
DTSTART:20190331T010000
END:DAYLIGHT
BEGIN:STANDARD
TZOFFSETFROM:+0200
TZOFFSETTO:+0100
TZNAME:CET
DTSTART:20191027T010000
END:STANDARD
BEGIN:DAYLIGHT
TZOFFSETFROM:+0100
TZOFFSETTO:+0200
TZNAME:CEST
DTSTART:20200329T010000
END:DAYLIGHT
BEGIN:STANDARD
TZOFFSETFROM:+0200
TZOFFSETTO:+0100
TZNAME:CET
DTSTART:20201025T010000
END:STANDARD
END:VTIMEZONE
BEGIN:VEVENT
DTSTART;VALUE=DATE:20190619
DTEND;VALUE=DATE:20190620
DTSTAMP:20260419T184818
CREATED:20190124T122645Z
LAST-MODIFIED:20190124T122657Z
UID:2891-1560902400-1560988799@ekip.com
SUMMARY:Trophée du Petit Déjeuner Gourmand
DESCRIPTION:La pâtissière Claire Heitzler sera la présidente du jury de la 3ième édition du trophée. \nLes locaux de l’EPMT accueilleront professionnels et particuliers qui tenteront de surprendre le jury et ainsi de décrocher le trophée. \nLes candidatures doivent être déposées avant le 30 avril 2019 minuit. \nLes prix des Ecoles hôtelières et des CFA est quant à lui parrainé par le chef Damien (Professeur de cuisine au lycée hôtelier de Soissons)
URL:https://ekip.com/event/trophee-du-petit-dejeuner-gourmand/
END:VEVENT
END:VCALENDAR