BEGIN:VCALENDAR
VERSION:2.0
PRODID:-//EKIP - ECPv6.15.20//NONSGML v1.0//EN
CALSCALE:GREGORIAN
METHOD:PUBLISH
X-ORIGINAL-URL:https://ekip.com
X-WR-CALDESC:Évènements pour EKIP
REFRESH-INTERVAL;VALUE=DURATION:PT1H
X-Robots-Tag:noindex
X-PUBLISHED-TTL:PT1H
BEGIN:VTIMEZONE
TZID:Europe/Helsinki
BEGIN:DAYLIGHT
TZOFFSETFROM:+0200
TZOFFSETTO:+0300
TZNAME:EEST
DTSTART:20200329T010000
END:DAYLIGHT
BEGIN:STANDARD
TZOFFSETFROM:+0300
TZOFFSETTO:+0200
TZNAME:EET
DTSTART:20201025T010000
END:STANDARD
BEGIN:DAYLIGHT
TZOFFSETFROM:+0200
TZOFFSETTO:+0300
TZNAME:EEST
DTSTART:20210328T010000
END:DAYLIGHT
BEGIN:STANDARD
TZOFFSETFROM:+0300
TZOFFSETTO:+0200
TZNAME:EET
DTSTART:20211031T010000
END:STANDARD
BEGIN:DAYLIGHT
TZOFFSETFROM:+0200
TZOFFSETTO:+0300
TZNAME:EEST
DTSTART:20220327T010000
END:DAYLIGHT
BEGIN:STANDARD
TZOFFSETFROM:+0300
TZOFFSETTO:+0200
TZNAME:EET
DTSTART:20221030T010000
END:STANDARD
END:VTIMEZONE
BEGIN:VEVENT
DTSTART;VALUE=DATE:20211122
DTEND;VALUE=DATE:20211126
DTSTAMP:20260425T213550
CREATED:20210319T103422Z
LAST-MODIFIED:20210319T103422Z
UID:4584-1637539200-1637884799@ekip.com
SUMMARY:DJAZAGRO - Alger
DESCRIPTION:Nouveau report du salon professionnel de la production alimentaire : boulangerie pâtisserie\, emballage et process\, ingrédients et arômes\, restauration et boissons. \nParmi les animations et événements : \n2ème édition du Trophée de l’Excellence El Djazaïr\,  avec le Trophée du Meilleur chef catégorie cuisine et celui du meilleur catégorie Pâtisserie chocolaterie .
URL:https://ekip.com/event/djazagro-alger-3/
LOCATION:Palais des expositions Safex\, Alger\, Algérie
END:VEVENT
END:VCALENDAR