BEGIN:VCALENDAR
VERSION:2.0
PRODID:-//EKIP - ECPv6.15.20//NONSGML v1.0//EN
CALSCALE:GREGORIAN
METHOD:PUBLISH
X-ORIGINAL-URL:https://ekip.com
X-WR-CALDESC:Évènements pour EKIP
REFRESH-INTERVAL;VALUE=DURATION:PT1H
X-Robots-Tag:noindex
X-PUBLISHED-TTL:PT1H
BEGIN:VTIMEZONE
TZID:Europe/Paris
BEGIN:DAYLIGHT
TZOFFSETFROM:+0100
TZOFFSETTO:+0200
TZNAME:CEST
DTSTART:20150329T010000
END:DAYLIGHT
BEGIN:STANDARD
TZOFFSETFROM:+0200
TZOFFSETTO:+0100
TZNAME:CET
DTSTART:20151025T010000
END:STANDARD
BEGIN:DAYLIGHT
TZOFFSETFROM:+0100
TZOFFSETTO:+0200
TZNAME:CEST
DTSTART:20160327T010000
END:DAYLIGHT
BEGIN:STANDARD
TZOFFSETFROM:+0200
TZOFFSETTO:+0100
TZNAME:CET
DTSTART:20161030T010000
END:STANDARD
BEGIN:DAYLIGHT
TZOFFSETFROM:+0100
TZOFFSETTO:+0200
TZNAME:CEST
DTSTART:20170326T010000
END:DAYLIGHT
BEGIN:STANDARD
TZOFFSETFROM:+0200
TZOFFSETTO:+0100
TZNAME:CET
DTSTART:20171029T010000
END:STANDARD
END:VTIMEZONE
BEGIN:VEVENT
DTSTART;VALUE=DATE:20160227
DTEND;VALUE=DATE:20160307
DTSTAMP:20260422T070006
CREATED:20160418T143412Z
LAST-MODIFIED:20160418T143420Z
UID:1060-1456531200-1457308799@ekip.com
SUMMARY:Salon de l'Agriculture - Paris -
DESCRIPTION:
URL:https://ekip.com/event/salon-de-lagriculture-paris/
LOCATION:Paris Porte de Versailles\, Paris\, France
END:VEVENT
BEGIN:VEVENT
DTSTART;VALUE=DATE:20160308
DTEND;VALUE=DATE:20160311
DTSTAMP:20260422T070006
CREATED:20160418T143751Z
LAST-MODIFIED:20160418T143803Z
UID:1062-1457395200-1457654399@ekip.com
SUMMARY:CFIA - Rennes
DESCRIPTION:
URL:https://ekip.com/event/cfia-rennes/
LOCATION:Lieu sans nom\, Rennes\, France
END:VEVENT
BEGIN:VEVENT
DTSTART;VALUE=DATE:20160311
DTEND;VALUE=DATE:20160317
DTSTAMP:20260422T070006
CREATED:20160418T144058Z
LAST-MODIFIED:20160418T144115Z
UID:1064-1457654400-1458172799@ekip.com
SUMMARY:INTERNORGA - Hambourg - Allemagne
DESCRIPTION:
URL:https://ekip.com/event/internorga-hambourg-allemagne/
LOCATION:Lieu sans nom\, Hambourg\, Allemagne
END:VEVENT
BEGIN:VEVENT
DTSTART;VALUE=DATE:20160313
DTEND;VALUE=DATE:20160317
DTSTAMP:20260422T070006
CREATED:20160418T142308Z
LAST-MODIFIED:20160418T142308Z
UID:1056-1457827200-1458172799@ekip.com
SUMMARY:EGAST-Strasbourg
DESCRIPTION:
URL:https://ekip.com/event/egast-strasbourg/
LOCATION:Wacken\, Strasbourg\, France
END:VEVENT
BEGIN:VEVENT
DTSTART;VALUE=DATE:20160314
DTEND;VALUE=DATE:20160316
DTSTAMP:20260422T070006
CREATED:20160319T101437Z
LAST-MODIFIED:20160418T140414Z
UID:782-1457913600-1458086399@ekip.com
SUMMARY:Sandwich and Snack Show – Paris
DESCRIPTION:
URL:https://ekip.com/event/14-et-15-mars-2016-sandwich-and-snack-show-paris/
LOCATION:Lieu sans nom\, Cologne\, Allemagne
END:VEVENT
BEGIN:VEVENT
DTSTART;VALUE=DATE:20160314
DTEND;VALUE=DATE:20160318
DTSTAMP:20260422T070006
CREATED:20160418T144400Z
LAST-MODIFIED:20160418T144404Z
UID:1066-1457913600-1458259199@ekip.com
SUMMARY:MODERN BAKERY - Moscou - Russie
DESCRIPTION:
URL:https://ekip.com/event/modern-bakery-moscou-russie/
LOCATION:Lieu sans nom\, Moscou\, Russie\, Fédération de
END:VEVENT
END:VCALENDAR