BEGIN:VCALENDAR
VERSION:2.0
PRODID:-//EKIP - ECPv6.15.20//NONSGML v1.0//EN
CALSCALE:GREGORIAN
METHOD:PUBLISH
X-WR-CALNAME:EKIP
X-ORIGINAL-URL:https://ekip.com
X-WR-CALDESC:Évènements pour EKIP
REFRESH-INTERVAL;VALUE=DURATION:PT1H
X-Robots-Tag:noindex
X-PUBLISHED-TTL:PT1H
BEGIN:VTIMEZONE
TZID:Europe/Paris
BEGIN:DAYLIGHT
TZOFFSETFROM:+0100
TZOFFSETTO:+0200
TZNAME:CEST
DTSTART:20150329T010000
END:DAYLIGHT
BEGIN:STANDARD
TZOFFSETFROM:+0200
TZOFFSETTO:+0100
TZNAME:CET
DTSTART:20151025T010000
END:STANDARD
BEGIN:DAYLIGHT
TZOFFSETFROM:+0100
TZOFFSETTO:+0200
TZNAME:CEST
DTSTART:20160327T010000
END:DAYLIGHT
BEGIN:STANDARD
TZOFFSETFROM:+0200
TZOFFSETTO:+0100
TZNAME:CET
DTSTART:20161030T010000
END:STANDARD
BEGIN:DAYLIGHT
TZOFFSETFROM:+0100
TZOFFSETTO:+0200
TZNAME:CEST
DTSTART:20170326T010000
END:DAYLIGHT
BEGIN:STANDARD
TZOFFSETFROM:+0200
TZOFFSETTO:+0100
TZNAME:CET
DTSTART:20171029T010000
END:STANDARD
END:VTIMEZONE
BEGIN:VEVENT
DTSTART;VALUE=DATE:20160413
DTEND;VALUE=DATE:20160416
DTSTAMP:20260422T052043
CREATED:20160319T101502Z
LAST-MODIFIED:20160418T140617Z
UID:783-1460505600-1460764799@ekip.com
SUMMARY:SIAL - Montréal – Canada
DESCRIPTION:
URL:https://ekip.com/event/13-au-15-avril-2016-sial-canada/
LOCATION:Lieu sans nom\, Montréal\, Canada
END:VEVENT
BEGIN:VEVENT
DTSTART;VALUE=DATE:20160418
DTEND;VALUE=DATE:20160422
DTSTAMP:20260422T052043
CREATED:20160319T101604Z
LAST-MODIFIED:20160418T140742Z
UID:785-1460937600-1461283199@ekip.com
SUMMARY:Djazagro – Alger- Algérie
DESCRIPTION:
URL:https://ekip.com/event/18-au-21-avril-2016-djazagro-alger-algerie/
LOCATION:Lieu sans nom\, Alger\, Algérie
END:VEVENT
BEGIN:VEVENT
DTSTART;VALUE=DATE:20160426
DTEND;VALUE=DATE:20160429
DTSTAMP:20260422T052043
CREATED:20160418T145428Z
LAST-MODIFIED:20160418T145434Z
UID:1070-1461628800-1461887999@ekip.com
SUMMARY:AGROFOOD - Lagos - Nigeria
DESCRIPTION:
URL:https://ekip.com/event/agrofood-lagos-nigeria/
LOCATION:Landmark Centre\, Lagos\, Nigeria
END:VEVENT
END:VCALENDAR