BEGIN:VCALENDAR
VERSION:2.0
PRODID:-//EKIP - ECPv6.15.20//NONSGML v1.0//EN
CALSCALE:GREGORIAN
METHOD:PUBLISH
X-WR-CALNAME:EKIP
X-ORIGINAL-URL:https://ekip.com
X-WR-CALDESC:Évènements pour EKIP
REFRESH-INTERVAL;VALUE=DURATION:PT1H
X-Robots-Tag:noindex
X-PUBLISHED-TTL:PT1H
BEGIN:VTIMEZONE
TZID:Europe/Paris
BEGIN:DAYLIGHT
TZOFFSETFROM:+0100
TZOFFSETTO:+0200
TZNAME:CEST
DTSTART:20150329T010000
END:DAYLIGHT
BEGIN:STANDARD
TZOFFSETFROM:+0200
TZOFFSETTO:+0100
TZNAME:CET
DTSTART:20151025T010000
END:STANDARD
BEGIN:DAYLIGHT
TZOFFSETFROM:+0100
TZOFFSETTO:+0200
TZNAME:CEST
DTSTART:20160327T010000
END:DAYLIGHT
BEGIN:STANDARD
TZOFFSETFROM:+0200
TZOFFSETTO:+0100
TZNAME:CET
DTSTART:20161030T010000
END:STANDARD
BEGIN:DAYLIGHT
TZOFFSETFROM:+0100
TZOFFSETTO:+0200
TZNAME:CEST
DTSTART:20170326T010000
END:DAYLIGHT
BEGIN:STANDARD
TZOFFSETFROM:+0200
TZOFFSETTO:+0100
TZNAME:CET
DTSTART:20171029T010000
END:STANDARD
END:VTIMEZONE
BEGIN:VEVENT
DTSTART;VALUE=DATE:20160912
DTEND;VALUE=DATE:20160913
DTSTAMP:20260421T214548
CREATED:20160701T133302Z
LAST-MODIFIED:20160701T133315Z
UID:1357-1473638400-1473724799@ekip.com
SUMMARY:Univers Boulangerie - Rouen
DESCRIPTION:
URL:https://ekip.com/event/univers-boulangerie-rouen/
LOCATION:Lieu sans nom\, Rouen\, France
END:VEVENT
BEGIN:VEVENT
DTSTART;VALUE=DATE:20160912
DTEND;VALUE=DATE:20160915
DTSTAMP:20260421T214548
CREATED:20160418T151004Z
LAST-MODIFIED:20160418T151011Z
UID:1077-1473638400-1473897599@ekip.com
SUMMARY:EQUIP MAG - Paris -
DESCRIPTION:
URL:https://ekip.com/event/equip-mag-paris/
LOCATION:Paris Porte de Versailles\, Paris\, France
END:VEVENT
BEGIN:VEVENT
DTSTART;VALUE=DATE:20160914
DTEND;VALUE=DATE:20160916
DTSTAMP:20260421T214548
CREATED:20160421T063332Z
LAST-MODIFIED:20160421T063354Z
UID:1197-1473811200-1473983999@ekip.com
SUMMARY:Rapid Resto - Paris
DESCRIPTION:
URL:https://ekip.com/event/rapid-resto-paris/
LOCATION:Paris Porte de Versailles\, Paris\, France
END:VEVENT
BEGIN:VEVENT
DTSTART;VALUE=DATE:20160923
DTEND;VALUE=DATE:20160926
DTSTAMP:20260421T214548
CREATED:20160705T124923Z
LAST-MODIFIED:20160705T124923Z
UID:1385-1474588800-1474847999@ekip.com
SUMMARY:Fête de la Gastronomie - 2016
DESCRIPTION:
URL:https://ekip.com/event/fete-de-la-gastronomie-2016/
END:VEVENT
BEGIN:VEVENT
DTSTART;VALUE=DATE:20160926
DTEND;VALUE=DATE:20160927
DTSTAMP:20260421T214548
CREATED:20160701T133422Z
LAST-MODIFIED:20160701T133431Z
UID:1359-1474848000-1474934399@ekip.com
SUMMARY:Univers Boulangerie - Paris
DESCRIPTION:
URL:https://ekip.com/event/univers-boulangerie-paris/
LOCATION:Lieu sans nom\, Paris\, France
END:VEVENT
BEGIN:VEVENT
DTSTART;VALUE=DATE:20160927
DTEND;VALUE=DATE:20160928
DTSTAMP:20260421T214548
CREATED:20160701T133538Z
LAST-MODIFIED:20160701T133550Z
UID:1361-1474934400-1475020799@ekip.com
SUMMARY:Univers Boulangerie - Orléans
DESCRIPTION:
URL:https://ekip.com/event/univers-boulangerie-orleans/
LOCATION:Lieu sans nom\, Orléans\, France
END:VEVENT
BEGIN:VEVENT
DTSTART;VALUE=DATE:20160928
DTEND;VALUE=DATE:20160929
DTSTAMP:20260421T214548
CREATED:20160701T133642Z
LAST-MODIFIED:20160701T133646Z
UID:1363-1475020800-1475107199@ekip.com
SUMMARY:Univers Boulangerie - Avignon
DESCRIPTION:
URL:https://ekip.com/event/univers-boulangerie-avignon/
LOCATION:Lieu sans nom\, Avignon\, France
END:VEVENT
END:VCALENDAR