BEGIN:VCALENDAR
VERSION:2.0
PRODID:-//EKIP - ECPv6.15.20//NONSGML v1.0//EN
CALSCALE:GREGORIAN
METHOD:PUBLISH
X-ORIGINAL-URL:https://ekip.com
X-WR-CALDESC:Évènements pour EKIP
REFRESH-INTERVAL;VALUE=DURATION:PT1H
X-Robots-Tag:noindex
X-PUBLISHED-TTL:PT1H
BEGIN:VTIMEZONE
TZID:Europe/Paris
BEGIN:DAYLIGHT
TZOFFSETFROM:+0100
TZOFFSETTO:+0200
TZNAME:CEST
DTSTART:20150329T010000
END:DAYLIGHT
BEGIN:STANDARD
TZOFFSETFROM:+0200
TZOFFSETTO:+0100
TZNAME:CET
DTSTART:20151025T010000
END:STANDARD
BEGIN:DAYLIGHT
TZOFFSETFROM:+0100
TZOFFSETTO:+0200
TZNAME:CEST
DTSTART:20160327T010000
END:DAYLIGHT
BEGIN:STANDARD
TZOFFSETFROM:+0200
TZOFFSETTO:+0100
TZNAME:CET
DTSTART:20161030T010000
END:STANDARD
BEGIN:DAYLIGHT
TZOFFSETFROM:+0100
TZOFFSETTO:+0200
TZNAME:CEST
DTSTART:20170326T010000
END:DAYLIGHT
BEGIN:STANDARD
TZOFFSETFROM:+0200
TZOFFSETTO:+0100
TZNAME:CET
DTSTART:20171029T010000
END:STANDARD
END:VTIMEZONE
BEGIN:VEVENT
DTSTART;VALUE=DATE:20161001
DTEND;VALUE=DATE:20161005
DTSTAMP:20260421T214718
CREATED:20160503T115539Z
LAST-MODIFIED:20160503T115709Z
UID:1268-1475280000-1475625599@ekip.com
SUMMARY:13ème Carrefour des Métiers de Bouche et de la Gastronomie - Niort
DESCRIPTION:
URL:https://ekip.com/event/13eme-carrefour-des-metiers-de-bouche-et-de-la-gastronomie/
LOCATION:Parc des Expositions de Noron Niort\, Niort\, France
END:VEVENT
BEGIN:VEVENT
DTSTART;VALUE=DATE:20161002
DTEND;VALUE=DATE:20161003
DTSTAMP:20260421T214718
CREATED:20160701T133850Z
LAST-MODIFIED:20160701T133901Z
UID:1365-1475366400-1475452799@ekip.com
SUMMARY:Univers Boulangerie - Carcassonne
DESCRIPTION:
URL:https://ekip.com/event/univers-boulangerie-carcassonne/
LOCATION:Lieu sans nom\, Carcassonne\, France
END:VEVENT
BEGIN:VEVENT
DTSTART;VALUE=DATE:20161003
DTEND;VALUE=DATE:20161004
DTSTAMP:20260421T214718
CREATED:20160701T134031Z
LAST-MODIFIED:20160701T134038Z
UID:1367-1475452800-1475539199@ekip.com
SUMMARY:Univers Boulangerie - Niort
DESCRIPTION:
URL:https://ekip.com/event/univers-boulangerie-niort/
LOCATION:Lieu sans nom\, Niort\, France
END:VEVENT
BEGIN:VEVENT
DTSTART;VALUE=DATE:20161008
DTEND;VALUE=DATE:20161012
DTSTAMP:20260421T214718
CREATED:20160418T151416Z
LAST-MODIFIED:20160418T151420Z
UID:1079-1475884800-1476230399@ekip.com
SUMMARY:IBIE - Las Vegas - USA
DESCRIPTION:
URL:https://ekip.com/event/ibie-las-vegas-usa/
LOCATION:Las Vegas Convention Center\, Las Vegas\, USA
END:VEVENT
BEGIN:VEVENT
DTSTART;VALUE=DATE:20161009
DTEND;VALUE=DATE:20161012
DTSTAMP:20260421T214718
CREATED:20160421T064010Z
LAST-MODIFIED:20160421T064133Z
UID:1202-1475971200-1476230399@ekip.com
SUMMARY:Resto Nouvo - Avignon
DESCRIPTION:
URL:https://ekip.com/event/resto-nouvo-avignon/
END:VEVENT
BEGIN:VEVENT
DTSTART;VALUE=DATE:20161009
DTEND;VALUE=DATE:20161012
DTSTAMP:20260421T214718
CREATED:20160503T120702Z
LAST-MODIFIED:20160503T133011Z
UID:1271-1475971200-1476230399@ekip.com
SUMMARY:CHRExpo et Métiers de Bouche-Arcachon
DESCRIPTION:
URL:https://ekip.com/event/chrexpo-et-metiers-de-bouche-arcachon/
LOCATION:Parc des Expositions du Bassin d’Arcachon\, Arcachon\, France
END:VEVENT
BEGIN:VEVENT
DTSTART;VALUE=DATE:20161009
DTEND;VALUE=DATE:20161012
DTSTAMP:20260421T214718
CREATED:20160927T135959Z
LAST-MODIFIED:20160927T135959Z
UID:1486-1475971200-1476230399@ekip.com
SUMMARY:BREIZH PRO EXPO - Brest
DESCRIPTION:2ème édition du salon professionnel Hôtellerie-restauration\, Métiers de bouche\, restauration collective
URL:https://ekip.com/event/breizh-pro-expo-brest/
LOCATION:Brest Parc Expo Penfeld\, Brest\, 29000\, France Métropolitaine
END:VEVENT
BEGIN:VEVENT
DTSTART;VALUE=DATE:20161010
DTEND;VALUE=DATE:20161011
DTSTAMP:20260421T214718
CREATED:20160701T134225Z
LAST-MODIFIED:20160701T134225Z
UID:1369-1476057600-1476143999@ekip.com
SUMMARY:Univers Boulangerie - Rennes
DESCRIPTION:
URL:https://ekip.com/event/univers-boulangerie-rennes/
LOCATION:Lieu sans nom\, Rennes\, France
END:VEVENT
BEGIN:VEVENT
DTSTART;VALUE=DATE:20161016
DTEND;VALUE=DATE:20161017
DTSTAMP:20260421T214718
CREATED:20160701T134436Z
LAST-MODIFIED:20160701T134458Z
UID:1371-1476576000-1476662399@ekip.com
SUMMARY:Univers Boulangerie - Kirrwiller
DESCRIPTION:
URL:https://ekip.com/event/univers-boulangerie-kirrwiller/
LOCATION:Lieu sans nom\, Kirrwiller\, France
END:VEVENT
BEGIN:VEVENT
DTSTART;VALUE=DATE:20161016
DTEND;VALUE=DATE:20161021
DTSTAMP:20260421T214718
CREATED:20160418T151703Z
LAST-MODIFIED:20160418T151707Z
UID:1081-1476576000-1477007999@ekip.com
SUMMARY:SIAL - Paris
DESCRIPTION:
URL:https://ekip.com/event/sial-paris/
LOCATION:Paris Nord Villepinte\, Paris\, France
END:VEVENT
BEGIN:VEVENT
DTSTART;VALUE=DATE:20161017
DTEND;VALUE=DATE:20161019
DTSTAMP:20260421T214718
CREATED:20160725T113223Z
LAST-MODIFIED:20160725T113223Z
UID:1445-1476662400-1476835199@ekip.com
SUMMARY:NordProExpo - Lille
DESCRIPTION:
URL:https://ekip.com/event/nordproexpo-lille/
LOCATION:Lieu sans nom\, Lille\, France
END:VEVENT
BEGIN:VEVENT
DTSTART;VALUE=DATE:20161020
DTEND;VALUE=DATE:20161021
DTSTAMP:20260421T214718
CREATED:20160701T134600Z
LAST-MODIFIED:20160701T134600Z
UID:1373-1476921600-1477007999@ekip.com
SUMMARY:Univers Boulangerie - Lyon
DESCRIPTION:
URL:https://ekip.com/event/univers-boulangerie-lyon/
LOCATION:Lieu sans nom\, Lyon\, France
END:VEVENT
BEGIN:VEVENT
DTSTART;VALUE=DATE:20161022
DTEND;VALUE=DATE:20161026
DTSTAMP:20260421T214718
CREATED:20160418T152534Z
LAST-MODIFIED:20160418T152538Z
UID:1082-1477094400-1477439999@ekip.com
SUMMARY:Südback - Stuttgart - Allemagne
DESCRIPTION:
URL:https://ekip.com/event/sudback-stuttgart-allemagne/
LOCATION:Messe Stuttgart\, Stuttgart\, Allemagne
END:VEVENT
BEGIN:VEVENT
DTSTART;VALUE=DATE:20161028
DTEND;VALUE=DATE:20161102
DTSTAMP:20260421T214718
CREATED:20160418T152814Z
LAST-MODIFIED:20160418T152818Z
UID:1084-1477612800-1478044799@ekip.com
SUMMARY:Salon du Chocolat - Paris
DESCRIPTION:
URL:https://ekip.com/event/salon-du-chocolat-paris/
LOCATION:Paris Porte de Versailles\, Paris\, France
END:VEVENT
END:VCALENDAR