BEGIN:VCALENDAR
VERSION:2.0
PRODID:-//EKIP - ECPv6.15.20//NONSGML v1.0//EN
CALSCALE:GREGORIAN
METHOD:PUBLISH
X-ORIGINAL-URL:https://ekip.com
X-WR-CALDESC:Évènements pour EKIP
REFRESH-INTERVAL;VALUE=DURATION:PT1H
X-Robots-Tag:noindex
X-PUBLISHED-TTL:PT1H
BEGIN:VTIMEZONE
TZID:Europe/Paris
BEGIN:DAYLIGHT
TZOFFSETFROM:+0100
TZOFFSETTO:+0200
TZNAME:CEST
DTSTART:20160327T010000
END:DAYLIGHT
BEGIN:STANDARD
TZOFFSETFROM:+0200
TZOFFSETTO:+0100
TZNAME:CET
DTSTART:20161030T010000
END:STANDARD
BEGIN:DAYLIGHT
TZOFFSETFROM:+0100
TZOFFSETTO:+0200
TZNAME:CEST
DTSTART:20170326T010000
END:DAYLIGHT
BEGIN:STANDARD
TZOFFSETFROM:+0200
TZOFFSETTO:+0100
TZNAME:CET
DTSTART:20171029T010000
END:STANDARD
BEGIN:DAYLIGHT
TZOFFSETFROM:+0100
TZOFFSETTO:+0200
TZNAME:CEST
DTSTART:20180325T010000
END:DAYLIGHT
BEGIN:STANDARD
TZOFFSETFROM:+0200
TZOFFSETTO:+0100
TZNAME:CET
DTSTART:20181028T010000
END:STANDARD
END:VTIMEZONE
BEGIN:VEVENT
DTSTART;VALUE=DATE:20170129
DTEND;VALUE=DATE:20170202
DTSTAMP:20260421T140352
CREATED:20160418T155316Z
LAST-MODIFIED:20160418T155332Z
UID:1093-1485648000-1485993599@ekip.com
SUMMARY:ISM - Cologne - Allemagne
DESCRIPTION:
URL:https://ekip.com/event/ism-cologne-allemagne-2/
LOCATION:Lieu sans nom\, Cologne\, Allemagne
END:VEVENT
BEGIN:VEVENT
DTSTART;VALUE=DATE:20170201
DTEND;VALUE=DATE:20170203
DTSTAMP:20260421T140352
CREATED:20161216T100152Z
LAST-MODIFIED:20161216T100152Z
UID:1684-1485907200-1486079999@ekip.com
SUMMARY:Salon des Entrepreneurs - Paris
DESCRIPTION:Organisé par le groupe les Echos au Palais des Congrès de Paris\, ce salon est animé par 80 conférences et 120 ateliers.
URL:https://ekip.com/event/salon-des-entrepreneurs-paris/
LOCATION:Palais des Congrès Paris\, Paris\, France
END:VEVENT
BEGIN:VEVENT
DTSTART;VALUE=DATE:20170203
DTEND;VALUE=DATE:20170210
DTSTAMP:20260421T140352
CREATED:20161024T081910Z
LAST-MODIFIED:20161024T083117Z
UID:1521-1486080000-1486684799@ekip.com
SUMMARY:Agrofood Ethiopie - Addis Abeba
DESCRIPTION:Dans le cadre de ce salon un Pavillon France sera créé  et géré par l’Adepta
URL:https://ekip.com/event/agrofood-ethiopie-addis-abeba/
LOCATION:Lieu sans nom\, Addis Ababa\, Éthiopie
END:VEVENT
BEGIN:VEVENT
DTSTART;VALUE=DATE:20170205
DTEND;VALUE=DATE:20170208
DTSTAMP:20260421T140352
CREATED:20170118T142239Z
LAST-MODIFIED:20170118T142239Z
UID:1782-1486252800-1486511999@ekip.com
SUMMARY:PERIPRO EXPO - Périgueux
DESCRIPTION:3ème édition du salon dédié à l’Hôtellerie Restauration et Métiers de bouche qui se tient tous les 2 ans à Périgueux. \n120 exposants  présenteront leurs produits et solutions. \nEn collaboration avec la chambre des métiers de la Dordogne\, le 07 Février 2017\,  ce sont aussi deux concours qui permettront au  Meilleur Apprenti Boulanger et au Meilleur Apprenti Pâtissier de Dordogne de se distinguer parmi leurs pairs.
URL:https://ekip.com/event/peripro-expo-perigueux/
LOCATION:Parc des Expositions de Périgueux\, Marsac sur l'Isle\, 24430\, France
END:VEVENT
BEGIN:VEVENT
DTSTART;VALUE=DATE:20170208
DTEND;VALUE=DATE:20170212
DTSTAMP:20260421T140352
CREATED:20161102T154008Z
LAST-MODIFIED:20161102T154013Z
UID:1547-1486512000-1486857599@ekip.com
SUMMARY:SIRHA - Mexico - Mexique
DESCRIPTION:
URL:https://ekip.com/event/sirha-mexico-mexique/
LOCATION:World trade center Mexico\, Mexique
END:VEVENT
BEGIN:VEVENT
DTSTART;VALUE=DATE:20170219
DTEND;VALUE=DATE:20170222
DTSTAMP:20260421T140352
CREATED:20160930T135021Z
LAST-MODIFIED:20160930T135021Z
UID:1491-1487462400-1487721599@ekip.com
SUMMARY:INTER SICOP - Madrid - Espagne
DESCRIPTION:Salon professionnel de la boulangerie\, confiserie\, glace et café
URL:https://ekip.com/event/inter-sicop-madrid-espagne/
LOCATION:Feria de Madrid\, Madrid\, Espagne
ORGANIZER;CN="IFEMA":MAILTO:intersicop@ifema.es
END:VEVENT
BEGIN:VEVENT
DTSTART;VALUE=DATE:20170226
DTEND;VALUE=DATE:20170303
DTSTAMP:20260421T140352
CREATED:20160418T155535Z
LAST-MODIFIED:20160418T155628Z
UID:1095-1488067200-1488499199@ekip.com
SUMMARY:Gulfood - Dubai - Emirats Arabes Unis
DESCRIPTION:
URL:https://ekip.com/event/gulfood-dubai-emirats-arabes-unis-2/
LOCATION:Dubai World Trade Center\, Dubai\, Émirats arabes unis
END:VEVENT
END:VCALENDAR