BEGIN:VCALENDAR
VERSION:2.0
PRODID:-//EKIP - ECPv6.15.20//NONSGML v1.0//EN
CALSCALE:GREGORIAN
METHOD:PUBLISH
X-ORIGINAL-URL:https://ekip.com
X-WR-CALDESC:Évènements pour EKIP
REFRESH-INTERVAL;VALUE=DURATION:PT1H
X-Robots-Tag:noindex
X-PUBLISHED-TTL:PT1H
BEGIN:VTIMEZONE
TZID:Europe/Paris
BEGIN:DAYLIGHT
TZOFFSETFROM:+0100
TZOFFSETTO:+0200
TZNAME:CEST
DTSTART:20160327T010000
END:DAYLIGHT
BEGIN:STANDARD
TZOFFSETFROM:+0200
TZOFFSETTO:+0100
TZNAME:CET
DTSTART:20161030T010000
END:STANDARD
BEGIN:DAYLIGHT
TZOFFSETFROM:+0100
TZOFFSETTO:+0200
TZNAME:CEST
DTSTART:20170326T010000
END:DAYLIGHT
BEGIN:STANDARD
TZOFFSETFROM:+0200
TZOFFSETTO:+0100
TZNAME:CET
DTSTART:20171029T010000
END:STANDARD
BEGIN:DAYLIGHT
TZOFFSETFROM:+0100
TZOFFSETTO:+0200
TZNAME:CEST
DTSTART:20180325T010000
END:DAYLIGHT
BEGIN:STANDARD
TZOFFSETFROM:+0200
TZOFFSETTO:+0100
TZNAME:CET
DTSTART:20181028T010000
END:STANDARD
END:VTIMEZONE
BEGIN:VEVENT
DTSTART;VALUE=DATE:20170226
DTEND;VALUE=DATE:20170303
DTSTAMP:20260421T123414
CREATED:20160418T155535Z
LAST-MODIFIED:20160418T155628Z
UID:1095-1488067200-1488499199@ekip.com
SUMMARY:Gulfood - Dubai - Emirats Arabes Unis
DESCRIPTION:
URL:https://ekip.com/event/gulfood-dubai-emirats-arabes-unis-2/
LOCATION:Dubai World Trade Center\, Dubai\, Émirats arabes unis
END:VEVENT
BEGIN:VEVENT
DTSTART;VALUE=DATE:20170306
DTEND;VALUE=DATE:20170309
DTSTAMP:20260421T123414
CREATED:20161011T141347Z
LAST-MODIFIED:20161011T141357Z
UID:1507-1488758400-1489017599@ekip.com
SUMMARY:S.A.P.H.I.R - Pau
DESCRIPTION:Salon régional des métiers de la restauration\, de la boulangerie et de la pâtisserie
URL:https://ekip.com/event/s-a-p-h-i-r-pau/
LOCATION:Parc des Expositions de Pau\, Pau\, France
END:VEVENT
BEGIN:VEVENT
DTSTART;VALUE=DATE:20170307
DTEND;VALUE=DATE:20170310
DTSTAMP:20260421T123414
CREATED:20161116T161950Z
LAST-MODIFIED:20161116T161950Z
UID:1567-1488844800-1489103999@ekip.com
SUMMARY:CFIA - Rennes
DESCRIPTION:Depuis 1997\, le Carrefour des Fournisseurs de l’Industrie Agroalimentaire propose l’une des plus grandes vitrines du savoir-faire français\, Il réunit un potentiel d’excellence destiné aux industriels du secteur\, réparti en trois pôles:\n– Ingrédients et PAI\,\n– Équipements et Procédés\,\n– Emballages et Conditionnements.\nAvec 1450 exposants et 20 000 visiteurs\, ce salon est l’un des seuls proposant une telle offre en France et l’un des événements les plus importants d’Europe dédiés à l’agroalimentaire.\nLe CFIA est un véritable levier pour le développement du secteur. Il réunit au cœur de la Bretagne\, 1ère région Agroalimentaire Européenne\, l’ensemble des professionnels de l’industrie agroalimentaire\, autour d’une gamme complète de produits et services.
URL:https://ekip.com/event/cfia-rennes-2/
LOCATION:Parc des Expo Rennes Aéroport\, RENNES\, 35000\, France
END:VEVENT
BEGIN:VEVENT
DTSTART;VALUE=DATE:20170308
DTEND;VALUE=DATE:20170312
DTSTAMP:20260421T123414
CREATED:20170216T095152Z
LAST-MODIFIED:20170216T095152Z
UID:1893-1488931200-1489276799@ekip.com
SUMMARY:44èmes Olympiades de Métiers - Bordeaux
DESCRIPTION:C’est au tour de la Région Grande Aquitaine d’accueillir la sélection nationale des Olympiades des Métiers. \nDurant 4 jours\, 700 jeunes de moins de 23 ans et issus de 13 régions tenteront de décrocher le sésame pour la finale qui se déroulera à Abu Dhabi – Emirats Arabes Unis en Octobre 2017.
URL:https://ekip.com/event/44emes-olympiades-de-metiers-bordeaux/
LOCATION:Parc des Expositions de Bordeaux\, Bordeaux\, France
END:VEVENT
BEGIN:VEVENT
DTSTART;VALUE=DATE:20170315
DTEND;VALUE=DATE:20170317
DTSTAMP:20260421T123414
CREATED:20161003T115622Z
LAST-MODIFIED:20161003T115622Z
UID:1495-1489536000-1489708799@ekip.com
SUMMARY:Sandwich &Snack Show - Paris
DESCRIPTION:Aux mêmes lieux et dates se dérouleront également Parizza et Japan food show
URL:https://ekip.com/event/sandwich-snack-show-paris/
LOCATION:Paris Porte de Versailles\, Paris\, France
END:VEVENT
BEGIN:VEVENT
DTSTART;VALUE=DATE:20170315
DTEND;VALUE=DATE:20170318
DTSTAMP:20260421T123414
CREATED:20170106T133218Z
LAST-MODIFIED:20170106T133218Z
UID:1726-1489536000-1489795199@ekip.com
SUMMARY:VENDING - Paris
DESCRIPTION:le Salon de la distribution automatique.
URL:https://ekip.com/event/vending-paris/
LOCATION:Paris Porte de Versailles\, Paris\, France
END:VEVENT
BEGIN:VEVENT
DTSTART;VALUE=DATE:20170319
DTEND;VALUE=DATE:20170322
DTSTAMP:20260421T123414
CREATED:20161011T142807Z
LAST-MODIFIED:20161011T142819Z
UID:1510-1489881600-1490140799@ekip.com
SUMMARY:HORESTA - OGIA - Biarritz
DESCRIPTION:Horesta\, le salon dédié à la restauration accueille le salon OGIA qui est lui\, réservé aux boulangers\, pâtissiers et chocolatiers
URL:https://ekip.com/event/horesta-ogia-biarritz/
LOCATION:Halle d’Iraty\, Biarritz\, France
END:VEVENT
BEGIN:VEVENT
DTSTART;VALUE=DATE:20170319
DTEND;VALUE=DATE:20170322
DTSTAMP:20260421T123414
CREATED:20170106T132157Z
LAST-MODIFIED:20170106T132511Z
UID:1724-1489881600-1490140799@ekip.com
SUMMARY:OGIA - Biarritz
DESCRIPTION:Salon Professionnel de la Boulangerie Pâtisserie et Chocolaterie. \nMatériel\, accessoires et fournisseurs
URL:https://ekip.com/event/ogia-biarritz/
LOCATION:Halle d’Iraty\, Biarritz\, France
END:VEVENT
BEGIN:VEVENT
DTSTART;VALUE=DATE:20170319
DTEND;VALUE=DATE:20170323
DTSTAMP:20260421T123414
CREATED:20161102T153725Z
LAST-MODIFIED:20161102T153732Z
UID:1545-1489881600-1490227199@ekip.com
SUMMARY:IFE - Londres
DESCRIPTION:
URL:https://ekip.com/event/ife-londres/
LOCATION:Excel Exhibition Centre\, Londres\, Royaume-Uni
END:VEVENT
BEGIN:VEVENT
DTSTART;VALUE=DATE:20170319
DTEND;VALUE=DATE:20170323
DTSTAMP:20260421T123414
CREATED:20170216T092430Z
LAST-MODIFIED:20170216T092651Z
UID:1891-1489881600-1490227199@ekip.com
SUMMARY:FRANCHISE EXPO - Paris
DESCRIPTION:Cet événement international regroupe tous les acteurs du marché qui accompagnent au quotidien créateurs d’entreprises et réseaux. \nC’est un carrefour de rencontre de plus de 35000 investisseurs\, créateurs d’entreprises ou encore commerçants : \n500 exposants\, 80 secteurs d’activités et 120 conférences ou ateliers
URL:https://ekip.com/event/franchise-expo-paris/
LOCATION:Paris Porte de Versailles\, Paris\, France
END:VEVENT
BEGIN:VEVENT
DTSTART;VALUE=DATE:20170320
DTEND;VALUE=DATE:20170321
DTSTAMP:20260421T123414
CREATED:20170306T100433Z
LAST-MODIFIED:20170306T100433Z
UID:1927-1489968000-1490054399@ekip.com
SUMMARY:Jour du Macaron 2017 : "Un don - un macaron"
DESCRIPTION:Initiée en 2005 par Pierre Hermé – un pâtissier au grand coeur –   cette journée fait chaque année rimer « Printemps et Combat ». \nLe pâtissier offre le produit de la vente du macaron à une association active dans le domaine du soutien à la recherche médicale. Ainsi depuis 2013\, c’est l’Association « Vaincre la mucoviscidose » qui est bénéficiaire des fonds. \nDepuis quelques années\,  les pâtissiers de l’association des Relais Desserts se mobilisent pour donner à cet événement. Cette année\, le 16 mars 2017\, 10 Chefs de l’association\, se retrouveront à l’Ecole du Cordon Bleu pour une journée du savoir-faire autour du macaron\, avec ateliers et animations au profit de Vaincre la mucoviscidose.
URL:https://ekip.com/event/jour-du-macaron-2017-un-don-un-macaron/
END:VEVENT
BEGIN:VEVENT
DTSTART;VALUE=DATE:20170323
DTEND;VALUE=DATE:20170326
DTSTAMP:20260421T123414
CREATED:20170220T135837Z
LAST-MODIFIED:20170220T135847Z
UID:1919-1490227200-1490486399@ekip.com
SUMMARY:GastroPan Exhibition - Roumanie
DESCRIPTION:9ème édition de ce salon dédié à la Boulangerie\, Pâtisserie\, Confiserie \, Hôtellerie et Restauration où les professionnels peuvent trouver produits et ingrédients\, équipements\, solutions et technologies qu’ils soient artisans ou industriels. \nDeux concours majeurs seront également accueillis : Celui du Pain de l’année 2017 et celui de la Pâtisserie de l’année 2017.
URL:https://ekip.com/event/gastropan-exhibition-roumanie/
LOCATION:Redal expo\, Sibiu City\, Roumanie
END:VEVENT
BEGIN:VEVENT
DTSTART;VALUE=DATE:20170328
DTEND;VALUE=DATE:20170330
DTSTAMP:20260421T123414
CREATED:20161103T085639Z
LAST-MODIFIED:20161103T085659Z
UID:1564-1490659200-1490831999@ekip.com
SUMMARY:M.A.D.E - Paris
DESCRIPTION:MDD Expo devient le M.A.D.E. (Marques Associées Distribution Event)\nLe salon réunit les fabricants de savoir-faire multiples autour de 4 secteurs : épicerie\, frais\, surgelés et non alimentaire avec un large choix d’ingrédients et de produits finis en phase avec les tendances de consommation.
URL:https://ekip.com/event/m-a-d-e-paris/
LOCATION:Paris Porte de Versailles\, Paris\, France
END:VEVENT
BEGIN:VEVENT
DTSTART;VALUE=DATE:20170328
DTEND;VALUE=DATE:20170331
DTSTAMP:20260421T123414
CREATED:20160701T140256Z
LAST-MODIFIED:20160701T140316Z
UID:1383-1490659200-1490918399@ekip.com
SUMMARY:AGROFOOD - Lagos - Nigéria
DESCRIPTION:
URL:https://ekip.com/event/agrofood-lagos-nigeria-2/
LOCATION:Landmark Centre\, Lagos\, Nigeria
END:VEVENT
BEGIN:VEVENT
DTSTART;VALUE=DATE:20170328
DTEND;VALUE=DATE:20170401
DTSTAMP:20260421T123414
CREATED:20160620T134753Z
LAST-MODIFIED:20160620T134753Z
UID:1333-1490659200-1491004799@ekip.com
SUMMARY:Hotelex- Shanghai - chine
DESCRIPTION:
URL:https://ekip.com/event/hotelex-shanghai-chine/
LOCATION:Lieu sans nom\, Shanghai\, Chine
END:VEVENT
END:VCALENDAR