BEGIN:VCALENDAR
VERSION:2.0
PRODID:-//EKIP - ECPv6.15.20//NONSGML v1.0//EN
CALSCALE:GREGORIAN
METHOD:PUBLISH
X-ORIGINAL-URL:https://ekip.com
X-WR-CALDESC:Évènements pour EKIP
REFRESH-INTERVAL;VALUE=DURATION:PT1H
X-Robots-Tag:noindex
X-PUBLISHED-TTL:PT1H
BEGIN:VTIMEZONE
TZID:Europe/Paris
BEGIN:DAYLIGHT
TZOFFSETFROM:+0100
TZOFFSETTO:+0200
TZNAME:CEST
DTSTART:20160327T010000
END:DAYLIGHT
BEGIN:STANDARD
TZOFFSETFROM:+0200
TZOFFSETTO:+0100
TZNAME:CET
DTSTART:20161030T010000
END:STANDARD
BEGIN:DAYLIGHT
TZOFFSETFROM:+0100
TZOFFSETTO:+0200
TZNAME:CEST
DTSTART:20170326T010000
END:DAYLIGHT
BEGIN:STANDARD
TZOFFSETFROM:+0200
TZOFFSETTO:+0100
TZNAME:CET
DTSTART:20171029T010000
END:STANDARD
BEGIN:DAYLIGHT
TZOFFSETFROM:+0100
TZOFFSETTO:+0200
TZNAME:CEST
DTSTART:20180325T010000
END:DAYLIGHT
BEGIN:STANDARD
TZOFFSETFROM:+0200
TZOFFSETTO:+0100
TZNAME:CET
DTSTART:20181028T010000
END:STANDARD
END:VTIMEZONE
BEGIN:VEVENT
DTSTART;VALUE=DATE:20170404
DTEND;VALUE=DATE:20170408
DTSTAMP:20260421T111013
CREATED:20170106T084050Z
LAST-MODIFIED:20170106T084050Z
UID:1721-1491264000-1491609599@ekip.com
SUMMARY:HORECA - Biel - LIBAN
DESCRIPTION:24ème édition de l’événement qui attend 15000 visiteurs et plus de 350 exposants.
URL:https://ekip.com/event/horeca-biel-liban/
LOCATION:Lieu sans nom\, Biel\, Liban
END:VEVENT
BEGIN:VEVENT
DTSTART;VALUE=DATE:20170410
DTEND;VALUE=DATE:20170414
DTSTAMP:20260421T111013
CREATED:20160920T083521Z
LAST-MODIFIED:20160920T083521Z
UID:1459-1491782400-1492127999@ekip.com
SUMMARY:DJAZAGRO - Alger
DESCRIPTION:
URL:https://ekip.com/event/djazagro-alger/
LOCATION:Palais des expositions Safex\, Alger\, Algérie
END:VEVENT
BEGIN:VEVENT
DTSTART;VALUE=DATE:20170420
DTEND;VALUE=DATE:20170423
DTSTAMP:20260421T111013
CREATED:20161011T143053Z
LAST-MODIFIED:20161011T143200Z
UID:1512-1492646400-1492905599@ekip.com
SUMMARY:Salon SUGAR - Paris
DESCRIPTION:Salon dédié à la pâtisserie créative et au cake design
URL:https://ekip.com/event/salon-sugar-paris/
LOCATION:Parc Floral\, Paris\, France
END:VEVENT
END:VCALENDAR