BEGIN:VCALENDAR
VERSION:2.0
PRODID:-//EKIP - ECPv6.15.20//NONSGML v1.0//EN
CALSCALE:GREGORIAN
METHOD:PUBLISH
X-WR-CALNAME:EKIP
X-ORIGINAL-URL:https://ekip.com
X-WR-CALDESC:Évènements pour EKIP
REFRESH-INTERVAL;VALUE=DURATION:PT1H
X-Robots-Tag:noindex
X-PUBLISHED-TTL:PT1H
BEGIN:VTIMEZONE
TZID:Europe/Paris
BEGIN:DAYLIGHT
TZOFFSETFROM:+0100
TZOFFSETTO:+0200
TZNAME:CEST
DTSTART:20160327T010000
END:DAYLIGHT
BEGIN:STANDARD
TZOFFSETFROM:+0200
TZOFFSETTO:+0100
TZNAME:CET
DTSTART:20161030T010000
END:STANDARD
BEGIN:DAYLIGHT
TZOFFSETFROM:+0100
TZOFFSETTO:+0200
TZNAME:CEST
DTSTART:20170326T010000
END:DAYLIGHT
BEGIN:STANDARD
TZOFFSETFROM:+0200
TZOFFSETTO:+0100
TZNAME:CET
DTSTART:20171029T010000
END:STANDARD
BEGIN:DAYLIGHT
TZOFFSETFROM:+0100
TZOFFSETTO:+0200
TZNAME:CEST
DTSTART:20180325T010000
END:DAYLIGHT
BEGIN:STANDARD
TZOFFSETFROM:+0200
TZOFFSETTO:+0100
TZNAME:CET
DTSTART:20181028T010000
END:STANDARD
END:VTIMEZONE
BEGIN:VEVENT
DTSTART;VALUE=DATE:20171001
DTEND;VALUE=DATE:20171002
DTSTAMP:20260421T011808
CREATED:20170607T134729Z
LAST-MODIFIED:20170607T140311Z
UID:1994-1506816000-1506902399@ekip.com
SUMMARY:Journée Mondiale du Cacao et du Chocolat
DESCRIPTION:l’Académie Française du Chocolat et de la Confiserie s’emploie depuis 7 ans à promouvoir l’alliance du cacao et du chocolat dans une même célébration le même jour\, sur l’ensemble des pays producteurs et consommateurs.
URL:https://ekip.com/event/journee-mondiale-du-cacao-et-du-chocolat/
END:VEVENT
BEGIN:VEVENT
DTSTART;VALUE=DATE:20171004
DTEND;VALUE=DATE:20171005
DTSTAMP:20260421T011808
CREATED:20170216T100158Z
LAST-MODIFIED:20170216T100636Z
UID:1896-1507075200-1507161599@ekip.com
SUMMARY:Colloque des Métiers du Goût - Paris
DESCRIPTION:Quel futur pour les métiers de la Pâtisserie et de la Boulangerie ? \nComment accompagner les femmes et les hommes de métier dans la société de demain ? \nLes Compagnons du Devoir\, au travers de l’Institut des Métiers du Goût\,  organisent ce colloque où se succéderont tables rondes\, espaces d’échanges collaboratifs\, intervention d’experts. \n 
URL:https://ekip.com/event/colloque-des-metiers-de-gout-paris/
LOCATION:maison de la chimie\, 28 rue Sant Dominique\, Paris\, 75007\, France
END:VEVENT
BEGIN:VEVENT
DTSTART;VALUE=DATE:20171007
DTEND;VALUE=DATE:20171012
DTSTAMP:20260421T011808
CREATED:20160418T160009Z
LAST-MODIFIED:20160418T160138Z
UID:1096-1507334400-1507766399@ekip.com
SUMMARY:Anuga - Cologne - Allemagne
DESCRIPTION:
URL:https://ekip.com/event/anuga-cologne-allemagne/
LOCATION:Koeln Messe\, Cologne\, Allemagne
END:VEVENT
BEGIN:VEVENT
DTSTART;TZID=Europe/Paris:20171008T143000
DTEND;TZID=Europe/Paris:20171009T170000
DTSTAMP:20260421T011808
CREATED:20170628T121606Z
LAST-MODIFIED:20170628T121645Z
UID:2016-1507473000-1507568400@ekip.com
SUMMARY:UNIVERS BOULANGERIE
DESCRIPTION:12 ans après sa création\, Univers Boulangerie revient en 2017\, sur les terres de ses débuts : le Palais des Congrès du Futuroscope. \nLa Confédération Nationale de la Boulangerie-Pâtisserie Française vous donne rendez-vous sur le site du parc d’attraction préféré des Français\, les dimanche 8 (après-midi) et lundi 9 octobre 2017 (jusqu’à 16h).
URL:https://ekip.com/event/univers-boulangerie/
LOCATION:Palais des Congrès du Futuroscope\, Poitiers\, France
END:VEVENT
BEGIN:VEVENT
DTSTART;VALUE=DATE:20171009
DTEND;VALUE=DATE:20171016
DTSTAMP:20260421T011808
CREATED:20170626T115631Z
LAST-MODIFIED:20170626T115639Z
UID:2010-1507507200-1508111999@ekip.com
SUMMARY:Semaine du goût - partout en France
DESCRIPTION:La Semaine du Goût® s’est donnée comme mission\, avec l’aide des professionnels\, d’éduquer et de transmettre aux enfants l’importance du goût et des produits associés en leur proposant de délicieuses activités en classe. Professionnels de l’alimentation et de la santé\, enfilez votre rôle de passeur de goût pour transmettre vos savoir-faire aux générations futures en animant une Leçon de Goût !\nDe nombreux enseignants partout en France se sont déjà inscrits pour l’édition 2017.
URL:https://ekip.com/event/semaine-du-gout-partout-en-france/
END:VEVENT
BEGIN:VEVENT
DTSTART;VALUE=DATE:20171011
DTEND;VALUE=DATE:20171019
DTSTAMP:20260421T011808
CREATED:20170628T130301Z
LAST-MODIFIED:20170628T130458Z
UID:2032-1507680000-1508371199@ekip.com
SUMMARY:Opération Love Baguette
DESCRIPTION:Opération mise en place chez les boulangers participants : vente de la Love Baguette dont les bénéfices seront reversés à l’Association AIDES de lutte contre le SIDA.
URL:https://ekip.com/event/operation-love-baguette/
LOCATION:France\, France
END:VEVENT
BEGIN:VEVENT
DTSTART;VALUE=DATE:20171012
DTEND;VALUE=DATE:20171013
DTSTAMP:20260421T011808
CREATED:20170216T101138Z
LAST-MODIFIED:20170919T145853Z
UID:1901-1507766400-1507852799@ekip.com
SUMMARY:Convention Internationale de la Boulangerie Moderne - Paris
DESCRIPTION:Cette journée de conférences et de rencontres réunira des intervenants prestigieux de la boulangerie – viennoiserie- pâtisserie internationale. \nCe sera l’occasion de \n• Débattre des opportunités d’un secteur en pleine mutation\, du grain au fournil jusqu’au point de vente \n• Mieux appréhender le consommateur d’aujourd’hui \n• Anticiper la révolution de l’offre produits-services \n• Analyser le marché amont-aval et ses process \nEvénement organisé par Honoré le Mag en partenariat avec Snacking
URL:https://ekip.com/event/convention-internationale-de-la-boulangerie-moderne-paris/
END:VEVENT
BEGIN:VEVENT
DTSTART;VALUE=DATE:20171014
DTEND;VALUE=DATE:20171020
DTSTAMP:20260421T011808
CREATED:20170628T125807Z
LAST-MODIFIED:20170628T125823Z
UID:2029-1507939200-1508457599@ekip.com
SUMMARY:44èmes Olympiades des Métiers - Abu Dhabi
DESCRIPTION:Finales internationales des 44èmes Olympiades des métiers.
URL:https://ekip.com/event/44emes-olympiades-des-metiers-abu-dhabi/
LOCATION:Abu Dhabi\, Émirats arabes unis
END:VEVENT
BEGIN:VEVENT
DTSTART;VALUE=DATE:20171015
DTEND;VALUE=DATE:20171018
DTSTAMP:20260421T011808
CREATED:20170309T151515Z
LAST-MODIFIED:20170309T151515Z
UID:1936-1508025600-1508284799@ekip.com
SUMMARY:RESTO NOUVO - Avignon
DESCRIPTION:5ème édition de ce salon professionnel pour la restauration\, les métiers de bouche et le commerce alimentaire propose de faire le point sur les innovations et les dernières tendances dans ce domaine.\nQuelques raisons de participer\n• 4000 visiteurs professionnels\n• 150 exposants à la pointe de l’innovation\n• une quinzaine de tables rondes animées par les meilleurs experts\n• de nombreuses animations : Carré des Chefs (démonstrations culinaires de haut vol)\, Nouvo Talent\, Street Food International Festival (concours de food trucks)…\nSi vous pensez que les innovations d’aujourd’hui sont les recettes traditionnelles de demain\, le salon RestoNouvo est fait pour vous !
URL:https://ekip.com/event/resto-nouvo-avignon-2/
LOCATION:Parc des Expositions AVIGNON\, AVIGNON\, France
END:VEVENT
BEGIN:VEVENT
DTSTART;VALUE=DATE:20171016
DTEND;VALUE=DATE:20171019
DTSTAMP:20260421T011808
CREATED:20170628T132934Z
LAST-MODIFIED:20170628T132937Z
UID:2035-1508112000-1508371199@ekip.com
SUMMARY:Beirut Cooking Festival et Salon du Chocolat - Beyrouth - Liban
DESCRIPTION:7ème édition du festival de la gastronomie où 160 exposants se sont donné rendez-vous.
URL:https://ekip.com/event/beirut-cooking-festival-et-salon-du-chocolat-beyrouth-liban/
LOCATION:BIEL -Beyrouth\, BEYROUTH\, Liban
END:VEVENT
BEGIN:VEVENT
DTSTART;VALUE=DATE:20171020
DTEND;VALUE=DATE:20171025
DTSTAMP:20260421T011808
CREATED:20161004T093250Z
LAST-MODIFIED:20161004T093250Z
UID:1498-1508457600-1508889599@ekip.com
SUMMARY:HOST - Milan- Italie
DESCRIPTION:Salon international de l’Hôtellerie- Restauration avec un pôle Boulangerie Pâtisserie
URL:https://ekip.com/event/host-milan-italie/
LOCATION:Parc de expositions Fiera Milano\, Italie
END:VEVENT
BEGIN:VEVENT
DTSTART;VALUE=DATE:20171022
DTEND;VALUE=DATE:20171026
DTSTAMP:20260421T011808
CREATED:20161011T143925Z
LAST-MODIFIED:20161011T143925Z
UID:1516-1508630400-1508975999@ekip.com
SUMMARY:SERBOTEL - Nantes
DESCRIPTION:Rendez-vous pour les professionnels des métiers de bouche\, de l’hôtellerie et la restauration de l’Ouest de la France
URL:https://ekip.com/event/serbotel-nantes/
LOCATION:Parc des Exposition de Nantes\, Nantes\, France
END:VEVENT
BEGIN:VEVENT
DTSTART;VALUE=DATE:20171023
DTEND;VALUE=DATE:20171027
DTSTAMP:20260421T011808
CREATED:20161103T093406Z
LAST-MODIFIED:20161103T093418Z
UID:1565-1508716800-1509062399@ekip.com
SUMMARY:SUDBACK - Stuttgart- Allemagne
DESCRIPTION:
URL:https://ekip.com/event/sudback-stuttgart-allemagne-2/
LOCATION:Messe Stuttgart\, Stuttgart\, Allemagne
END:VEVENT
BEGIN:VEVENT
DTSTART;VALUE=DATE:20171028
DTEND;VALUE=DATE:20171102
DTSTAMP:20260421T011808
CREATED:20170626T120034Z
LAST-MODIFIED:20170626T120040Z
UID:2012-1509148800-1509580799@ekip.com
SUMMARY:Salon du Chocolat - Paris
DESCRIPTION:CHOCOLAT ET CACAO : LA GRANDE AVENTURE\nDu 28 octobre au 1er novembre prochain\, le Salon du Chocolat revient Porte de Versailles pour sa 23ème édition et vous promet une parenthèse gourmande\, réconfortante et festive ! \nPrès de 500 participants français et internationaux seront présents sur 20 000 m2 : chocolatiers\, pâtissiers\, confiseurs\, pays producteurs\, aux côtés des plus grands chefs\, chefs pâtissiers\, designers et experts qui se relaieront pour vous offrir recettes\, ateliers\, conférences et autres animations autour du chocolat. \nUne opportunité unique pour découvrir et goûter les chocolats venus des 5 continents ! \nLe Salon du Chocolat n’a pas fini de vous faire saliver !
URL:https://ekip.com/event/salon-du-chocolat-paris-2/
LOCATION:Paris Porte de Versailles\, Paris\, France
END:VEVENT
END:VCALENDAR