BEGIN:VCALENDAR
VERSION:2.0
PRODID:-//EKIP - ECPv6.15.20//NONSGML v1.0//EN
CALSCALE:GREGORIAN
METHOD:PUBLISH
X-WR-CALNAME:EKIP
X-ORIGINAL-URL:https://ekip.com
X-WR-CALDESC:Évènements pour EKIP
REFRESH-INTERVAL;VALUE=DURATION:PT1H
X-Robots-Tag:noindex
X-PUBLISHED-TTL:PT1H
BEGIN:VTIMEZONE
TZID:Europe/Paris
BEGIN:DAYLIGHT
TZOFFSETFROM:+0100
TZOFFSETTO:+0200
TZNAME:CEST
DTSTART:20160327T010000
END:DAYLIGHT
BEGIN:STANDARD
TZOFFSETFROM:+0200
TZOFFSETTO:+0100
TZNAME:CET
DTSTART:20161030T010000
END:STANDARD
BEGIN:DAYLIGHT
TZOFFSETFROM:+0100
TZOFFSETTO:+0200
TZNAME:CEST
DTSTART:20170326T010000
END:DAYLIGHT
BEGIN:STANDARD
TZOFFSETFROM:+0200
TZOFFSETTO:+0100
TZNAME:CET
DTSTART:20171029T010000
END:STANDARD
BEGIN:DAYLIGHT
TZOFFSETFROM:+0100
TZOFFSETTO:+0200
TZNAME:CEST
DTSTART:20180325T010000
END:DAYLIGHT
BEGIN:STANDARD
TZOFFSETFROM:+0200
TZOFFSETTO:+0100
TZNAME:CET
DTSTART:20181028T010000
END:STANDARD
END:VTIMEZONE
BEGIN:VEVENT
DTSTART;VALUE=DATE:20171028
DTEND;VALUE=DATE:20171102
DTSTAMP:20260420T235237
CREATED:20170626T120034Z
LAST-MODIFIED:20170626T120040Z
UID:2012-1509148800-1509580799@ekip.com
SUMMARY:Salon du Chocolat - Paris
DESCRIPTION:CHOCOLAT ET CACAO : LA GRANDE AVENTURE\nDu 28 octobre au 1er novembre prochain\, le Salon du Chocolat revient Porte de Versailles pour sa 23ème édition et vous promet une parenthèse gourmande\, réconfortante et festive ! \nPrès de 500 participants français et internationaux seront présents sur 20 000 m2 : chocolatiers\, pâtissiers\, confiseurs\, pays producteurs\, aux côtés des plus grands chefs\, chefs pâtissiers\, designers et experts qui se relaieront pour vous offrir recettes\, ateliers\, conférences et autres animations autour du chocolat. \nUne opportunité unique pour découvrir et goûter les chocolats venus des 5 continents ! \nLe Salon du Chocolat n’a pas fini de vous faire saliver !
URL:https://ekip.com/event/salon-du-chocolat-paris-2/
LOCATION:Paris Porte de Versailles\, Paris\, France
END:VEVENT
BEGIN:VEVENT
DTSTART;VALUE=DATE:20171108
DTEND;VALUE=DATE:20171110
DTSTAMP:20260420T235237
CREATED:20170425T084426Z
LAST-MODIFIED:20170425T085346Z
UID:1966-1510099200-1510271999@ekip.com
SUMMARY:JTIC 2017 - Paris
DESCRIPTION:Pour cette nouvelle édition\, les journées techniques des industries céréalières évoluent pour offrir encore plus de contenu technique\, économique ou scientifique. \npour découvrir le programme et avoir toutes les informations rendez-vous sur http://www.jtic.eu \n 
URL:https://ekip.com/event/jtic-2017-paris/
LOCATION:Paris Event Center La Villette\, Paris\, France
ORGANIZER;CN="AEMIC":MAILTO:commercial@aemic.com
END:VEVENT
BEGIN:VEVENT
DTSTART;VALUE=DATE:20171119
DTEND;VALUE=DATE:20171122
DTSTAMP:20260420T235237
CREATED:20161004T093724Z
LAST-MODIFIED:20161004T093724Z
UID:1500-1511049600-1511308799@ekip.com
SUMMARY:EXP'HOTEL - Bordeaux
DESCRIPTION:Salon des métiers de bouche
URL:https://ekip.com/event/exphotel-bordeaux/
LOCATION:Lieu sans nom\, Bordeaux\, France
END:VEVENT
BEGIN:VEVENT
DTSTART;VALUE=DATE:20171121
DTEND;VALUE=DATE:20171124
DTSTAMP:20260420T235237
CREATED:20170706T105830Z
LAST-MODIFIED:20170706T105830Z
UID:2074-1511222400-1511481599@ekip.com
SUMMARY:Semaine de l'Excellence
DESCRIPTION:Les différentes épreuves de la 5ème édition de la semaine de l’Excellence en Boulangerie se dérouleront à l’Ecole Française de Boulangerie Pâtisserie d’Aurillac. \nDeux concours seront réunis sur cette période : le Concours des Meilleurs Jeunes Boulangers et les Trophées des Talents et du Conseil en Boulangerie Pâtisserie
URL:https://ekip.com/event/semaine-de-lexcellence/
LOCATION:EFBPA Aurillac\, AURILLAC\, 15000\, France
END:VEVENT
BEGIN:VEVENT
DTSTART;VALUE=DATE:20171121
DTEND;VALUE=DATE:20171124
DTSTAMP:20260420T235237
CREATED:20170830T131730Z
LAST-MODIFIED:20170830T144918Z
UID:2104-1511222400-1511481599@ekip.com
SUMMARY:FPPE -Nairobi - Kenya
DESCRIPTION:4ème édition de Food Processing and Packaging Exposyum\,  salon  dédié aux procédés alimentaires et au packaging\, pour la zone Afrique de l’Est \nConférences et Expositions. \nCet événement se tiendra en même temps que East Afripack 2017 – Membre du réseau Interpack Alliance.
URL:https://ekip.com/event/fppe-nairobi-kenya/
LOCATION:Kenyatta international Convention Center\, Nairobi\, Kenya
END:VEVENT
BEGIN:VEVENT
DTSTART;VALUE=DATE:20171125
DTEND;VALUE=DATE:20171129
DTSTAMP:20260420T235237
CREATED:20170830T064527Z
LAST-MODIFIED:20170830T064534Z
UID:2096-1511568000-1511913599@ekip.com
SUMMARY:IBEX 2017 - Téhéran - IRAN
DESCRIPTION:11ème édition du salon international dédié à l’univers de la boulangerie pâtisserie\, mais aussi café ou encore confiserie. \nEquipements\, Produits\, Ingrédients\, Conditionnement\, emballage…
URL:https://ekip.com/event/ibex-2017-teheran-iran/
LOCATION:Tehran Int’l Permanent Fairground\, Téhéran\, Iran (République islamique d')
END:VEVENT
END:VCALENDAR