BEGIN:VCALENDAR
VERSION:2.0
PRODID:-//EKIP - ECPv6.15.20//NONSGML v1.0//EN
CALSCALE:GREGORIAN
METHOD:PUBLISH
X-ORIGINAL-URL:https://ekip.com
X-WR-CALDESC:Évènements pour EKIP
REFRESH-INTERVAL;VALUE=DURATION:PT1H
X-Robots-Tag:noindex
X-PUBLISHED-TTL:PT1H
BEGIN:VTIMEZONE
TZID:Europe/Paris
BEGIN:DAYLIGHT
TZOFFSETFROM:+0100
TZOFFSETTO:+0200
TZNAME:CEST
DTSTART:20170326T010000
END:DAYLIGHT
BEGIN:STANDARD
TZOFFSETFROM:+0200
TZOFFSETTO:+0100
TZNAME:CET
DTSTART:20171029T010000
END:STANDARD
BEGIN:DAYLIGHT
TZOFFSETFROM:+0100
TZOFFSETTO:+0200
TZNAME:CEST
DTSTART:20180325T010000
END:DAYLIGHT
BEGIN:STANDARD
TZOFFSETFROM:+0200
TZOFFSETTO:+0100
TZNAME:CET
DTSTART:20181028T010000
END:STANDARD
BEGIN:DAYLIGHT
TZOFFSETFROM:+0100
TZOFFSETTO:+0200
TZNAME:CEST
DTSTART:20190331T010000
END:DAYLIGHT
BEGIN:STANDARD
TZOFFSETFROM:+0200
TZOFFSETTO:+0100
TZNAME:CET
DTSTART:20191027T010000
END:STANDARD
END:VTIMEZONE
BEGIN:VEVENT
DTSTART;VALUE=DATE:20180503
DTEND;VALUE=DATE:20180506
DTSTAMP:20260420T145435
CREATED:20171220T153050Z
LAST-MODIFIED:20171220T153617Z
UID:2199-1525305600-1525564799@ekip.com
SUMMARY:AGROFOOD - Addis-Abeba - Ethiopie
DESCRIPTION:Salon dédié à l’Equipement\, le Process et l’Emballage \nPrésence d’un pavillon France. Toutes informations et contact auprès de l’ADEPTA
URL:https://ekip.com/event/agrofood-addis-abeba-ethiopie/
LOCATION:Addis-Abeba\, Éthiopie
END:VEVENT
BEGIN:VEVENT
DTSTART;VALUE=DATE:20180514
DTEND;VALUE=DATE:20180521
DTSTAMP:20260420T145435
CREATED:20180223T074737Z
LAST-MODIFIED:20180223T082010Z
UID:2353-1526256000-1526860799@ekip.com
SUMMARY:Fête du Pain
DESCRIPTION:Partout en France\, des manifestations sont organisées pour rappeler que le pain est un produit de qualité à très forte valeur ajoutée. \nCette année\, le slogan de la Fête du pain sera « Baguettes en scène » et à cette occasion\, le public pourra découvrir la « Baguette l’Insolite » mais aussi retrouver la baguette de tradition\, découvrir les baguettes régionales ou les spécialités de son boulanger.
URL:https://ekip.com/event/fete-du-pain/
END:VEVENT
BEGIN:VEVENT
DTSTART;VALUE=DATE:20180515
DTEND;VALUE=DATE:20180516
DTSTAMP:20260420T145435
CREATED:20180215T095514Z
LAST-MODIFIED:20180215T101823Z
UID:2330-1526342400-1526428799@ekip.com
SUMMARY:Séance Publique Académie Française du Chocolat - Paris
DESCRIPTION:La séance publique sera marqué par 3 événements : \nUn hommage sera rendu à Guy URBAIN\, Fondateur de l’Académie Française du Chocolat\, décédé le 25 décembre 2017. \nLa 12ème Coupe de France des Jeunes Chocolatiers Confiseurs \nLe « Prix de l’Académie – Guy Urbain » sera remis à l’Equateur\, pays producteur de cacao dont les lois -appliquées- interdisent le travail des enfants.
URL:https://ekip.com/event/seance-publique-academie-du-chocolat-paris/
LOCATION:Paris\, France
END:VEVENT
END:VCALENDAR