BEGIN:VCALENDAR
VERSION:2.0
PRODID:-//EKIP - ECPv6.15.20//NONSGML v1.0//EN
CALSCALE:GREGORIAN
METHOD:PUBLISH
X-ORIGINAL-URL:https://ekip.com
X-WR-CALDESC:Évènements pour EKIP
REFRESH-INTERVAL;VALUE=DURATION:PT1H
X-Robots-Tag:noindex
X-PUBLISHED-TTL:PT1H
BEGIN:VTIMEZONE
TZID:Europe/Paris
BEGIN:DAYLIGHT
TZOFFSETFROM:+0100
TZOFFSETTO:+0200
TZNAME:CEST
DTSTART:20170326T010000
END:DAYLIGHT
BEGIN:STANDARD
TZOFFSETFROM:+0200
TZOFFSETTO:+0100
TZNAME:CET
DTSTART:20171029T010000
END:STANDARD
BEGIN:DAYLIGHT
TZOFFSETFROM:+0100
TZOFFSETTO:+0200
TZNAME:CEST
DTSTART:20180325T010000
END:DAYLIGHT
BEGIN:STANDARD
TZOFFSETFROM:+0200
TZOFFSETTO:+0100
TZNAME:CET
DTSTART:20181028T010000
END:STANDARD
BEGIN:DAYLIGHT
TZOFFSETFROM:+0100
TZOFFSETTO:+0200
TZNAME:CEST
DTSTART:20190331T010000
END:DAYLIGHT
BEGIN:STANDARD
TZOFFSETFROM:+0200
TZOFFSETTO:+0100
TZNAME:CET
DTSTART:20191027T010000
END:STANDARD
END:VTIMEZONE
BEGIN:VEVENT
DTSTART;VALUE=DATE:20181001
DTEND;VALUE=DATE:20181002
DTSTAMP:20260420T083050
CREATED:20180426T124925Z
LAST-MODIFIED:20180426T125015Z
UID:2436-1538352000-1538438399@ekip.com
SUMMARY:Journée Mondiale du Cacao
DESCRIPTION:Créée en 2010 à l’initiative de l’Académie Française du Chocolat et de la Confiserie\, cette journée est consacrée à la mise en valeur de toute la filière cacao : du planteur au chocolatier.\n \nDepuis septembre 2017\, le Syndicat du chocolat\, qui regroupe les principaux industriels français et mais également 4000 chocolatiers\, travaille sur la notion de chocolat « durable » et socialement équitable. Il s’est fixé pour objectif  la mise en place d’une norme européenne à fin 2018. \nLa production de cacao « doit s’inscrire dans la lutte contre le dérèglement climatique en mettant fin à la déforestation et en développant l’agroforesterie ». Elle doit aussi « oeuvrer à une meilleure rémunération des planteurs » et « poursuivre la lutte » contre « les pires formes de travail des enfants ».
URL:https://ekip.com/event/journee-mondiale-du-cacao/
END:VEVENT
BEGIN:VEVENT
DTSTART;VALUE=DATE:20181005
DTEND;VALUE=DATE:20181008
DTSTAMP:20260420T083050
CREATED:20171220T161714Z
LAST-MODIFIED:20171220T162030Z
UID:2223-1538697600-1538956799@ekip.com
SUMMARY:EXPO FOOD PROCESS - Santiago - Chili
DESCRIPTION:Salon dédié à l’Equipement\, au Process et l’Emballage \nPrésence d’un pavillon France. Toutes informations et contact auprès de l’ADEPTA
URL:https://ekip.com/event/expo-food-process-santiago-chili/
LOCATION:Santiago\, Chili
END:VEVENT
BEGIN:VEVENT
DTSTART;VALUE=DATE:20181007
DTEND;VALUE=DATE:20181010
DTSTAMP:20260420T083050
CREATED:20171220T095227Z
LAST-MODIFIED:20171220T095234Z
UID:2188-1538870400-1539129599@ekip.com
SUMMARY:Carrefour des Métiers de Bouche - NIORT
DESCRIPTION:Pour sa 14ème édition\, le Carrefour des Métiers de Bouche et de la gastronomie en Nouvelle Aquitaine accueillera la Finale Nationale des Meilleurs Ouvriers de France en Charcuterie Traiteur. \nRetrouvez tous les professionnels de l’univers de la Boulangerie\, Pâtisserie\, Restauration\, Charcuterie/Traiteur et Boucherie
URL:https://ekip.com/event/carrefour-des-metiers-de-bouche-niort/
LOCATION:Parc des Expositions de Noron Niort\, Niort\, France
END:VEVENT
BEGIN:VEVENT
DTSTART;VALUE=DATE:20181008
DTEND;VALUE=DATE:20181015
DTSTAMP:20260420T083050
CREATED:20180426T125947Z
LAST-MODIFIED:20180426T125953Z
UID:2438-1538956800-1539561599@ekip.com
SUMMARY:29 ème Semaine du Goût
DESCRIPTION:La Semaine du Goût® est l’évènement référent de la transmission et de l’éducation au goût pour le plus grand nombre. Elle favorise les rencontres entre professionnels de la terre à l’assiette avec le grand public et les publics cibles (de la maternelle à l’enseignement supérieur) partout en France pour sauvegarder la culture des patrimoines culinaires et le bien manger. \nPour retrouver le programme des différentes manifestations \, rendez-vous sur le site de l’événement.
URL:https://ekip.com/event/29-eme-semaine-du-gout/
LOCATION:France\, France
END:VEVENT
BEGIN:VEVENT
DTSTART;VALUE=DATE:20181012
DTEND;VALUE=DATE:20181016
DTSTAMP:20260420T083050
CREATED:20180627T144848Z
LAST-MODIFIED:20180627T153133Z
UID:2542-1539302400-1539647999@ekip.com
SUMMARY:Les Artisanales de Chartres
DESCRIPTION:
URL:https://ekip.com/event/les-artisanales-de-chartres/
LOCATION:Chartres\, Chartres\, 28000\, France
END:VEVENT
BEGIN:VEVENT
DTSTART;VALUE=DATE:20181014
DTEND;VALUE=DATE:20181016
DTSTAMP:20260420T083050
CREATED:20180925T121839Z
LAST-MODIFIED:20180925T123030Z
UID:2688-1539475200-1539647999@ekip.com
SUMMARY:BREIZH Proexpo - Brest
DESCRIPTION:3ème édition du salon dédié à l’hôtellerie\, à la restauration\, aux métiers de bouche mais aussi à la restauration collective\, au tourisme et aux loisirs. \n100 exposants vous donnent rendez-vous sur 5000 m2 d’exposition. \nVous pouvez retirer vos invitations sur le site de la manifestation
URL:https://ekip.com/event/breizh-proexpo-brest/
LOCATION:Brest Parc Expo Penfeld\, Brest\, 29000\, France Métropolitaine
END:VEVENT
BEGIN:VEVENT
DTSTART;VALUE=DATE:20181014
DTEND;VALUE=DATE:20181017
DTSTAMP:20260420T083050
CREATED:20180305T095804Z
LAST-MODIFIED:20180305T095814Z
UID:2393-1539475200-1539734399@ekip.com
SUMMARY:Salon Dauphinois de l'Hôtellerie et des Métiers de Bouche - Grenoble
DESCRIPTION:La 3ème édition du Salon Dauphinois de l’Hôtellerie et des Métiers de Bouche regroupera 200 enseignes autour des thématiques \nAlimentation – Boissons \nInstitutionnels  – Services \nMatériels – Equipements \nAménagement – Décoration
URL:https://ekip.com/event/salon-dauphinois-de-lhotellerie-et-des-metiers-de-bouche-grenoble/
LOCATION:alexpo\, Grenoble\, France
END:VEVENT
BEGIN:VEVENT
DTSTART;VALUE=DATE:20181014
DTEND;VALUE=DATE:20181018
DTSTAMP:20260420T083050
CREATED:20171220T161512Z
LAST-MODIFIED:20171220T161517Z
UID:2220-1539475200-1539820799@ekip.com
SUMMARY:PACKEXPO - Chicago - Etats Unis
DESCRIPTION:Salon dédié à l’Equipement\, au Process et l’Emballage \nPrésence d’un pavillon France. Toutes informations et contact auprès de l’ADEPTA
URL:https://ekip.com/event/packexpo-chicago-etats-unis/
LOCATION:Mc Cormick Place – Chicago\, USA
END:VEVENT
BEGIN:VEVENT
DTSTART;TZID=Europe/Paris:20181015T133000
DTEND;TZID=Europe/Paris:20181015T170000
DTSTAMP:20260420T083050
CREATED:20180905T143250Z
LAST-MODIFIED:20180905T143303Z
UID:2626-1539610200-1539622800@ekip.com
SUMMARY:Colloque des 20 ans de l'Académie Française du Chocolat
DESCRIPTION:Quels défis pour la chocolaterie et la confiserie du 21ème siècle ? \n13 h 30 : 2 tables rondes réunissant des Académiciens et des experts internationaux :\n    Quels défis pour les confiseries dans une société anti-sucre ?\n    Quelles sont les causes cachées d’une possible pénurie de cacao ?\n16 h 30 : Remise des prix de  La Coupe des Coupes\nconcours rassemblant les lauréats\nde 12 Coupes de France des Jeunes Chocolatiers Confiseurs \n17 h : Cocktail final avec exposition des pièces artistiques des jeunes \nNombre de places limité\nInscription préalable obligatoire pour des raisons de sécurité à partir du 03/09/2018 :\nhttps://www.weezevent.com/colloque-academie
URL:https://ekip.com/event/colloque-des-20-ans-de-lacademie-francaise-du-chocolat/
LOCATION:Hotel de Ville de Lyon\, 1 Place de la Comédie\, LYON\, 69001\, France
END:VEVENT
BEGIN:VEVENT
DTSTART;VALUE=DATE:20181021
DTEND;VALUE=DATE:20181026
DTSTAMP:20260420T083050
CREATED:20170703T130829Z
LAST-MODIFIED:20170703T130835Z
UID:2063-1540080000-1540511999@ekip.com
SUMMARY:SIAL - Paris
DESCRIPTION:Le rendez-vous mondial de l’innovation alimentaire . \nEn 2018\, SIAL Paris sera plus que jamais une source d’inspiration pour l’alimentation mondiale. \n\n7 000 entreprises de plus de 100 pays présenteront leurs produits aux professionnels de la distribution et de la restauration.\nDes ingrédients aux produits finis\, en passant par les équipements\, tous les produits alimentaires seront présentés : à découvrir sur 21 secteurs d’exposition.\nEn quête d’idées ? SIAL Innovation mettra une nouvelle fois les produits alimentaires innovants sous les feux des projecteurs.\nEt pour aller plus loin : découvrez les conférences SIAL TV et In-Food Centre\, les résultats des études dédiées aux tendances de la distribution et de la consommation de World Tour. Et bien plus encore !
URL:https://ekip.com/event/sial-paris-2/
LOCATION:Paris Nord Villepinte\, Paris\, France
END:VEVENT
BEGIN:VEVENT
DTSTART;VALUE=DATE:20181031
DTEND;VALUE=DATE:20181105
DTSTAMP:20260420T083050
CREATED:20180507T142912Z
LAST-MODIFIED:20180507T142933Z
UID:2444-1540944000-1541375999@ekip.com
SUMMARY:Salon du Chocolat - Paris
DESCRIPTION:24 édition du salon du chocolat
URL:https://ekip.com/event/salon-du-chocolat-paris-3/
LOCATION:Paris Porte de Versailles\, Paris\, France
END:VEVENT
END:VCALENDAR