BEGIN:VCALENDAR
VERSION:2.0
PRODID:-//EKIP - ECPv6.15.20//NONSGML v1.0//EN
CALSCALE:GREGORIAN
METHOD:PUBLISH
X-WR-CALNAME:EKIP
X-ORIGINAL-URL:https://ekip.com
X-WR-CALDESC:Évènements pour EKIP
REFRESH-INTERVAL;VALUE=DURATION:PT1H
X-Robots-Tag:noindex
X-PUBLISHED-TTL:PT1H
BEGIN:VTIMEZONE
TZID:Europe/Paris
BEGIN:DAYLIGHT
TZOFFSETFROM:+0100
TZOFFSETTO:+0200
TZNAME:CEST
DTSTART:20170326T010000
END:DAYLIGHT
BEGIN:STANDARD
TZOFFSETFROM:+0200
TZOFFSETTO:+0100
TZNAME:CET
DTSTART:20171029T010000
END:STANDARD
BEGIN:DAYLIGHT
TZOFFSETFROM:+0100
TZOFFSETTO:+0200
TZNAME:CEST
DTSTART:20180325T010000
END:DAYLIGHT
BEGIN:STANDARD
TZOFFSETFROM:+0200
TZOFFSETTO:+0100
TZNAME:CET
DTSTART:20181028T010000
END:STANDARD
BEGIN:DAYLIGHT
TZOFFSETFROM:+0100
TZOFFSETTO:+0200
TZNAME:CEST
DTSTART:20190331T010000
END:DAYLIGHT
BEGIN:STANDARD
TZOFFSETFROM:+0200
TZOFFSETTO:+0100
TZNAME:CET
DTSTART:20191027T010000
END:STANDARD
END:VTIMEZONE
BEGIN:VEVENT
DTSTART;VALUE=DATE:20181031
DTEND;VALUE=DATE:20181105
DTSTAMP:20260420T063929
CREATED:20180507T142912Z
LAST-MODIFIED:20180507T142933Z
UID:2444-1540944000-1541375999@ekip.com
SUMMARY:Salon du Chocolat - Paris
DESCRIPTION:24 édition du salon du chocolat
URL:https://ekip.com/event/salon-du-chocolat-paris-3/
LOCATION:Paris Porte de Versailles\, Paris\, France
END:VEVENT
BEGIN:VEVENT
DTSTART;VALUE=DATE:20181101
DTEND;VALUE=DATE:20181102
DTSTAMP:20260420T063929
CREATED:20171220T155936Z
LAST-MODIFIED:20171220T155943Z
UID:2209-1541030400-1541116799@ekip.com
SUMMARY:ALLPACK - Jakarta - Indonésie
DESCRIPTION:Salon dédié à l’Equipement et à l’Emballage \nPrésence d’un pavillon France. Toutes informations et contact auprès de l’ADEPTA
URL:https://ekip.com/event/allpack-jakarta-indonesie/
LOCATION:jakarta\, Indonésie
END:VEVENT
BEGIN:VEVENT
DTSTART;VALUE=DATE:20181106
DTEND;VALUE=DATE:20181109
DTSTAMP:20260420T063929
CREATED:20180720T080205Z
LAST-MODIFIED:20180720T080427Z
UID:2579-1541462400-1541721599@ekip.com
SUMMARY:Hospitality Qatar 2018 - Doha -Qatar
DESCRIPTION:4ème édition du Salon international de l’hôtellerie restauration. De nombreux Ateliers\, des Conférences et 4 Evénements : \nSalon Culinaire \nLive cooking competition \nMocktail competition \nBarista compétition
URL:https://ekip.com/event/hospitality-qatar-2018-doha-qatar/
LOCATION:Doha Exhibition & Convention Center\, DOHA\, Qatar
END:VEVENT
BEGIN:VEVENT
DTSTART;VALUE=DATE:20181107
DTEND;VALUE=DATE:20181109
DTSTAMP:20260420T063929
CREATED:20180424T115141Z
LAST-MODIFIED:20180424T115153Z
UID:2419-1541548800-1541721599@ekip.com
SUMMARY:Journées Techniques des Industries Céréalières
DESCRIPTION:69èmes journées techniques des Industries Céréalières. \nAteliers\, conférences\, exposition… le rendez-vous des acteurs de la filière
URL:https://ekip.com/event/journees-techniques-des-industries-cerealieres/
LOCATION:Paris Event Center La Villette\, Paris\, France
ORGANIZER;CN="AEMIC":MAILTO:commercial@aemic.com
END:VEVENT
BEGIN:VEVENT
DTSTART;VALUE=DATE:20181110
DTEND;VALUE=DATE:20181113
DTSTAMP:20260420T063929
CREATED:20180828T140330Z
LAST-MODIFIED:20180828T140334Z
UID:2600-1541808000-1542067199@ekip.com
SUMMARY:Made in France - Paris
DESCRIPTION:450 exposants de tous secteurs dont l’artisanat vous donnent rendez-vous.
URL:https://ekip.com/event/made-in-france-paris/
LOCATION:Paris Porte de Versailles\, Paris\, France
END:VEVENT
BEGIN:VEVENT
DTSTART;VALUE=DATE:20181111
DTEND;VALUE=DATE:20181116
DTSTAMP:20260420T063929
CREATED:20170628T123933Z
LAST-MODIFIED:20170628T125318Z
UID:2027-1541894400-1542326399@ekip.com
SUMMARY:EQUIP HOTEL - Paris
DESCRIPTION:Chasseurs de tendances de l’hôtellerie-restauration\, d’équipement\, ou d’idées pour votre établissement ? Bienvenue sur EquipHotel ! \nVenez à la rencontre des 1600 professionnels de l’hôtellerie-restauration qui exposent sur le salon. Avec 30 secteurs d’exposition répartis sur 5 pavillons\, EquipHotel est votre référence transversale et internationale ! \nVisitez EquipHotel\, et participez à tous les évènements organisés pendant 5 jours ? Concours\, conférences\, espaces de tendances\,… Entre compétition\, innovations\, solutions concrètes\, échange et networking\, plongez dans l’ambiance unique du salon des professionnels de l’hôtellerie-restauration et du spa.
URL:https://ekip.com/event/equip-hotel-paris-2/
LOCATION:Paris Porte de Versailles\, Paris\, France
END:VEVENT
BEGIN:VEVENT
DTSTART;VALUE=DATE:20181120
DTEND;VALUE=DATE:20181123
DTSTAMP:20260420T063929
CREATED:20180604T131051Z
LAST-MODIFIED:20180604T131057Z
UID:2483-1542672000-1542931199@ekip.com
SUMMARY:Semaine de l'excellence
DESCRIPTION:Pour sa nouvelle édition\, la Semaine de l’Excellence en Boulangerie se déroulera sur le Campus des Métiers et de l’Entreprise de Bobigny (93). \nC’est lors de ces finales que sont désignés les Meilleurs Jeunes Boulangers et les Talents de la Vente.
URL:https://ekip.com/event/semaine-de-lexcellence-2/
LOCATION:Campus des Métiers et de l’Entreprise\, 91-129 Rue Edouard Renard\, Bobigny\, 93013\, France
END:VEVENT
BEGIN:VEVENT
DTSTART;VALUE=DATE:20181120
DTEND;VALUE=DATE:20181123
DTSTAMP:20260420T063929
CREATED:20180717T124746Z
LAST-MODIFIED:20180717T124753Z
UID:2570-1542672000-1542931199@ekip.com
SUMMARY:AGROFOOD - Abidjan-Côte d'Ivoire
DESCRIPTION:Le Radisson Blu Hotel à Abidjan accueillera la 5ème édition du salon des équipements process et emballages de l’univers agro alimentaire .
URL:https://ekip.com/event/agrofood-abidjan-cote-divoire/
LOCATION:Abidjan\, Côte d'Ivoire
END:VEVENT
BEGIN:VEVENT
DTSTART;VALUE=DATE:20181122
DTEND;VALUE=DATE:20181126
DTSTAMP:20260420T063929
CREATED:20180717T125756Z
LAST-MODIFIED:20181105T120130Z
UID:2573-1542844800-1543190399@ekip.com
SUMMARY:IBEX - Téhéran- Iran (Annulé)
DESCRIPTION:Novembre 2018 : Les organisateurs annulent cette édition du salon IBEX. \nla 12 ième édition du salon IBEX : le salon de la Boulangerie Pâtisserie
URL:https://ekip.com/event/ibex-teheran-iran-2/
LOCATION:Tehran Int’l Permanent Fairground\, Téhéran\, Iran (République islamique d')
END:VEVENT
BEGIN:VEVENT
DTSTART;VALUE=DATE:20181127
DTEND;VALUE=DATE:20181128
DTSTAMP:20260420T063929
CREATED:20180614T082806Z
LAST-MODIFIED:20180614T082811Z
UID:2491-1543276800-1543363199@ekip.com
SUMMARY:Convention Internationale de la Boulangerie Moderne
DESCRIPTION:Après le succès de la première édition\, toute la filière se donne rendez-vous pour une journée de conférences et débats pour : \n– Appréhender les tendance et comprendre les mutations du consommateur \n– Mieux construire une offre en saisissant les opportunités offertes par les différents marchés \n– Profiter des expériences des Success Stories de la BVP internationale \n– Analyser la Filière Amont-Aval et ses process
URL:https://ekip.com/event/convention-internationale-de-la-boulangerie-moderne/
LOCATION:Paris\, France
END:VEVENT
BEGIN:VEVENT
DTSTART;VALUE=DATE:20181127
DTEND;VALUE=DATE:20181130
DTSTAMP:20260420T063929
CREATED:20181105T143737Z
LAST-MODIFIED:20181105T143741Z
UID:2745-1543276800-1543535999@ekip.com
SUMMARY:HI Europe 2018 -Francfort - Allemagne
DESCRIPTION:Le salon européen dédié aux ingrédients santé présentera toutes les innovations et les concepts les plus récents en matière d’alimentation fonctionnelle. \nEn parallèle se déroulera un cycle de conférences lors de la Health and Nutrition Week. \nL’entrée du salon est gratuite pour les visiteurs qui se sont inscrits en ligne : https://www.figlobal.com/hieurope
URL:https://ekip.com/event/hi-europe-2018-francfort-allemagne/
LOCATION:Francfort\, Allemagne
END:VEVENT
BEGIN:VEVENT
DTSTART;VALUE=DATE:20181129
DTEND;VALUE=DATE:20181202
DTSTAMP:20260420T063929
CREATED:20180711T114619Z
LAST-MODIFIED:20180711T114713Z
UID:2557-1543449600-1543708799@ekip.com
SUMMARY:45èmes Olympiades des Métiers - Caen
DESCRIPTION:La finale nationale des Worldskills France se déroulera au Parc des Expositions de Caen. C’est la ville de Caen qui aura le privilège de recevoir les champions régionaux lors de cet événement unique qui met à l’honneur le savoir-faire de la jeunesse française au travers de nombreux métiers. Durant 3 jours\, 650 candidats représentant les 15 Régions de France et d’Outre-Mer vont tenter\, durant ces Finales Nationales\, d’intégrer l’équipe de France des Métiers qui participera à la compétition internationale WorldSkills Kazan en août 2019.
URL:https://ekip.com/event/45emes-olympiades-des-metiers-caen/
LOCATION:Parc des Expositions de Caen\, Rue Joseph Philippon\, CAEN\, 14000\, France
END:VEVENT
END:VCALENDAR