BEGIN:VCALENDAR
VERSION:2.0
PRODID:-//EKIP - ECPv6.15.20//NONSGML v1.0//EN
CALSCALE:GREGORIAN
METHOD:PUBLISH
X-WR-CALNAME:EKIP
X-ORIGINAL-URL:https://ekip.com
X-WR-CALDESC:Évènements pour EKIP
REFRESH-INTERVAL;VALUE=DURATION:PT1H
X-Robots-Tag:noindex
X-PUBLISHED-TTL:PT1H
BEGIN:VTIMEZONE
TZID:Europe/Paris
BEGIN:DAYLIGHT
TZOFFSETFROM:+0100
TZOFFSETTO:+0200
TZNAME:CEST
DTSTART:20180325T010000
END:DAYLIGHT
BEGIN:STANDARD
TZOFFSETFROM:+0200
TZOFFSETTO:+0100
TZNAME:CET
DTSTART:20181028T010000
END:STANDARD
BEGIN:DAYLIGHT
TZOFFSETFROM:+0100
TZOFFSETTO:+0200
TZNAME:CEST
DTSTART:20190331T010000
END:DAYLIGHT
BEGIN:STANDARD
TZOFFSETFROM:+0200
TZOFFSETTO:+0100
TZNAME:CET
DTSTART:20191027T010000
END:STANDARD
BEGIN:DAYLIGHT
TZOFFSETFROM:+0100
TZOFFSETTO:+0200
TZNAME:CEST
DTSTART:20200329T010000
END:DAYLIGHT
BEGIN:STANDARD
TZOFFSETFROM:+0200
TZOFFSETTO:+0100
TZNAME:CET
DTSTART:20201025T010000
END:STANDARD
END:VTIMEZONE
BEGIN:VEVENT
DTSTART;VALUE=DATE:20190604
DTEND;VALUE=DATE:20190605
DTSTAMP:20260419T172205
CREATED:20190104T121537Z
LAST-MODIFIED:20190104T123209Z
UID:2824-1559606400-1559692799@ekip.com
SUMMARY:Congrès du Snacking - Paris
DESCRIPTION:Retrouvez les grandes tendances du snacking lors de cette journée de conférences et débats.
URL:https://ekip.com/event/congres-du-snacking-paris-3/
LOCATION:PARIS – Pavillon Royal\, PARIS\, France
END:VEVENT
BEGIN:VEVENT
DTSTART;VALUE=DATE:20190613
DTEND;VALUE=DATE:20190614
DTSTAMP:20260419T172205
CREATED:20190213T132727Z
LAST-MODIFIED:20190213T133037Z
UID:2914-1560384000-1560470399@ekip.com
SUMMARY:Colloque Défis et Controverses - Restauration collective: qualité et accessibilité
DESCRIPTION:Le 13 juin 2019\, le CESE (Conseil Economique Social et Environnemental) accueillera le colloque co-organisé par L’autre Cuisine et Cantines responsables. \nLa filière alimentaire est-elle à la hauteur des enjeux de qualité et d’accessibilité souhaités pour la restauration collective ? \nde 9h30 à 17h30 au Palais d’Iena – 75016 Paris.
URL:https://ekip.com/event/colloque-defis-et-controverses-restauration-collective-qualite-et-accessibilite/
LOCATION:Palais d’Iena – Paris\, 9 Avenue d'Iena\, Paris\, 75016\, France
END:VEVENT
BEGIN:VEVENT
DTSTART;VALUE=DATE:20190614
DTEND;VALUE=DATE:20190618
DTSTAMP:20260419T172205
CREATED:20180911T070131Z
LAST-MODIFIED:20180911T070136Z
UID:2640-1560470400-1560815999@ekip.com
SUMMARY:Salon de la Pâtisserie - Paris
DESCRIPTION:2ème édition du salon dédié à l’univers de la pâtisserie.
URL:https://ekip.com/event/salon-de-la-patisserie-paris-2/
LOCATION:Paris Porte de Versailles\, Paris\, France
END:VEVENT
BEGIN:VEVENT
DTSTART;VALUE=DATE:20190619
DTEND;VALUE=DATE:20190620
DTSTAMP:20260419T172205
CREATED:20190124T122645Z
LAST-MODIFIED:20190124T122657Z
UID:2891-1560902400-1560988799@ekip.com
SUMMARY:Trophée du Petit Déjeuner Gourmand
DESCRIPTION:La pâtissière Claire Heitzler sera la présidente du jury de la 3ième édition du trophée. \nLes locaux de l’EPMT accueilleront professionnels et particuliers qui tenteront de surprendre le jury et ainsi de décrocher le trophée. \nLes candidatures doivent être déposées avant le 30 avril 2019 minuit. \nLes prix des Ecoles hôtelières et des CFA est quant à lui parrainé par le chef Damien (Professeur de cuisine au lycée hôtelier de Soissons)
URL:https://ekip.com/event/trophee-du-petit-dejeuner-gourmand/
END:VEVENT
END:VCALENDAR