BEGIN:VCALENDAR
VERSION:2.0
PRODID:-//EKIP - ECPv6.15.20//NONSGML v1.0//EN
CALSCALE:GREGORIAN
METHOD:PUBLISH
X-WR-CALNAME:EKIP
X-ORIGINAL-URL:https://ekip.com
X-WR-CALDESC:Évènements pour EKIP
REFRESH-INTERVAL;VALUE=DURATION:PT1H
X-Robots-Tag:noindex
X-PUBLISHED-TTL:PT1H
BEGIN:VTIMEZONE
TZID:Europe/Helsinki
BEGIN:DAYLIGHT
TZOFFSETFROM:+0200
TZOFFSETTO:+0300
TZNAME:EEST
DTSTART:20240331T010000
END:DAYLIGHT
BEGIN:STANDARD
TZOFFSETFROM:+0300
TZOFFSETTO:+0200
TZNAME:EET
DTSTART:20241027T010000
END:STANDARD
BEGIN:DAYLIGHT
TZOFFSETFROM:+0200
TZOFFSETTO:+0300
TZNAME:EEST
DTSTART:20250330T010000
END:DAYLIGHT
BEGIN:STANDARD
TZOFFSETFROM:+0300
TZOFFSETTO:+0200
TZNAME:EET
DTSTART:20251026T010000
END:STANDARD
BEGIN:DAYLIGHT
TZOFFSETFROM:+0200
TZOFFSETTO:+0300
TZNAME:EEST
DTSTART:20260329T010000
END:DAYLIGHT
BEGIN:STANDARD
TZOFFSETFROM:+0300
TZOFFSETTO:+0200
TZNAME:EET
DTSTART:20261025T010000
END:STANDARD
END:VTIMEZONE
BEGIN:VEVENT
DTSTART;VALUE=DATE:20250930
DTEND;VALUE=DATE:20251003
DTSTAMP:20260423T053308
CREATED:20240222T123900Z
LAST-MODIFIED:20250227T144013Z
UID:6547-1759190400-1759449599@ekip.com
SUMMARY:SIRHA ARABIA
DESCRIPTION:Rendez-vous professionnel du food service réunissant les acteurs locaux et internationaux.
URL:https://ekip.com/event/sirha-arabia/
LOCATION:Riyadh Front Expo\, Riyad
END:VEVENT
BEGIN:VEVENT
DTSTART;VALUE=DATE:20251006
DTEND;VALUE=DATE:20251008
DTSTAMP:20260423T053308
CREATED:20250604T085920Z
LAST-MODIFIED:20250604T085920Z
UID:7671-1759708800-1759881599@ekip.com
SUMMARY:Rest'Hôtel & Métiers de Bouche\, Caen
DESCRIPTION:Le rendez-vous incontournable des professionnels des CHR\, métiers de bouche\, restauration collective et métiers du tourisme de Normandie.
URL:https://ekip.com/event/resthotel-metiers-de-bouche-2/
LOCATION:Parc des Expositions de Caen\, Rue Joseph Philippon\, CAEN\, 14000\, France
END:VEVENT
BEGIN:VEVENT
DTSTART;VALUE=DATE:20251007
DTEND;VALUE=DATE:20251010
DTSTAMP:20260423T053308
CREATED:20250319T092906Z
LAST-MODIFIED:20250319T092906Z
UID:7192-1759795200-1760054399@ekip.com
SUMMARY:Hace Hotel Expo
DESCRIPTION:Salon de l’hôtellerie égyptien
URL:https://ekip.com/event/hace-hotel-expo/
LOCATION:Egypt International Exhibitions Center\, Le Caire\, Egypt
END:VEVENT
BEGIN:VEVENT
DTSTART;VALUE=DATE:20251012
DTEND;VALUE=DATE:20251014
DTSTAMP:20260423T053308
CREATED:20250604T090415Z
LAST-MODIFIED:20250604T090608Z
UID:7674-1760227200-1760399999@ekip.com
SUMMARY:Rest'Hôtel & Métiers de Bouche\, Tarbes
DESCRIPTION:Le rendez-vous incontournable des professionnels des CHR\, métiers de bouche\, restauration collective et métiers du tourisme.
URL:https://ekip.com/event/resthotel-metiers-de-bouche-3/
LOCATION:Parc des Expositions de Tarbes\, France
END:VEVENT
BEGIN:VEVENT
DTSTART;VALUE=DATE:20251019
DTEND;VALUE=DATE:20251023
DTSTAMP:20260423T053308
CREATED:20220914T151158Z
LAST-MODIFIED:20240222T125053Z
UID:5784-1760832000-1761177599@ekip.com
SUMMARY:SERBOTEL
DESCRIPTION:Le salon des métiers de bouche\, de la boulangerie-pâtisserie\, de l’hôtellerie et de la restauration. Le salon s’est imposé comme un rendez-vous incontournable.
URL:https://ekip.com/event/serbotel-3/
LOCATION:Parc des Exposition de Nantes\, Nantes\, France
END:VEVENT
END:VCALENDAR